BEGIN:VCALENDAR
VERSION:2.0
PRODID:-//Peaks and Pints Proctor Tacoma - ECPv6.15.15//NONSGML v1.0//EN
CALSCALE:GREGORIAN
METHOD:PUBLISH
X-WR-CALNAME:Peaks and Pints Proctor Tacoma
X-ORIGINAL-URL:https://www.peaksandpints.com
X-WR-CALDESC:Events for Peaks and Pints Proctor Tacoma
REFRESH-INTERVAL;VALUE=DURATION:PT1H
X-Robots-Tag:noindex
X-PUBLISHED-TTL:PT1H
BEGIN:VTIMEZONE
TZID:America/Los_Angeles
BEGIN:DAYLIGHT
TZOFFSETFROM:-0800
TZOFFSETTO:-0700
TZNAME:PDT
DTSTART:20210314T100000
END:DAYLIGHT
BEGIN:STANDARD
TZOFFSETFROM:-0700
TZOFFSETTO:-0800
TZNAME:PST
DTSTART:20211107T090000
END:STANDARD
BEGIN:DAYLIGHT
TZOFFSETFROM:-0800
TZOFFSETTO:-0700
TZNAME:PDT
DTSTART:20220313T100000
END:DAYLIGHT
BEGIN:STANDARD
TZOFFSETFROM:-0700
TZOFFSETTO:-0800
TZNAME:PST
DTSTART:20221106T090000
END:STANDARD
BEGIN:DAYLIGHT
TZOFFSETFROM:-0800
TZOFFSETTO:-0700
TZNAME:PDT
DTSTART:20230312T100000
END:DAYLIGHT
BEGIN:STANDARD
TZOFFSETFROM:-0700
TZOFFSETTO:-0800
TZNAME:PST
DTSTART:20231105T090000
END:STANDARD
END:VTIMEZONE
BEGIN:VTIMEZONE
TZID:America/Los_Angeles
BEGIN:DAYLIGHT
TZOFFSETFROM:-0800
TZOFFSETTO:-0700
TZNAME:PDT
DTSTART:20150308T100000
END:DAYLIGHT
BEGIN:STANDARD
TZOFFSETFROM:-0700
TZOFFSETTO:-0800
TZNAME:PST
DTSTART:20151101T090000
END:STANDARD
BEGIN:DAYLIGHT
TZOFFSETFROM:-0800
TZOFFSETTO:-0700
TZNAME:PDT
DTSTART:20160313T100000
END:DAYLIGHT
BEGIN:STANDARD
TZOFFSETFROM:-0700
TZOFFSETTO:-0800
TZNAME:PST
DTSTART:20161106T090000
END:STANDARD
BEGIN:DAYLIGHT
TZOFFSETFROM:-0800
TZOFFSETTO:-0700
TZNAME:PDT
DTSTART:20170312T100000
END:DAYLIGHT
BEGIN:STANDARD
TZOFFSETFROM:-0700
TZOFFSETTO:-0800
TZNAME:PST
DTSTART:20171105T090000
END:STANDARD
END:VTIMEZONE
BEGIN:VEVENT
DTSTART;TZID=America/Los_Angeles:20220521T110000
DTEND;TZID=America/Los_Angeles:20220521T233000
DTSTAMP:20260419T193149
CREATED:20220520T154533Z
LAST-MODIFIED:20220520T154533Z
UID:10001587-1653130800-1653175800@www.peaksandpints.com
SUMMARY:Peaks and Pints Orval Day 2022
DESCRIPTION:Peaks and Pints Orval Day 2022\nPlease visit Peaks and Pints as we join the top beer bars from across the globe in celebrating Orval Day 2022 Saturday\, May 21. Orval Day celebrates a global ­flavor touchstone\, a beer brewed within the walls of Belgian’s Notre Dame d’Orval monastery with a thousand-year history: Orval Trappist Ale. Intensely aromatic and dry\, this Belgian pale ale is as complex as it is unique. Orval is bottle conditioned with three different malts\, two types of hops\, and undergoes complex fermentation with multiple yeasts including Brettanomyces. Peaks & Pints will offer Orval bottles to drink inside our craft beer lodge\, or to take home. If you are celebrating at home follow these steps. First\, grab your beer-clean Orval chalice. Second\, gently pour until you have one centimeter of beer left in the bottle (per the instruction of the brewery). And last but not least\, bask in the glory of this unique\, Brett-y\, dry-hopped wonder of Belgian craftsmanship. By participating in this event\, you are also contributing to a great cause. On this day\, Orval distributor Merchant du Vin will be making a charitable donation to the National Forest Foundation. \nPEAKS AND PINTS ORVAL DAY 2022\, 11 a.m. to midnight\, Saturday\, May 21\, 3816 N. 26th St.\, Basecamp Proctor\, Tacoma
URL:https://www.peaksandpints.com/event/peaks-and-pints-orval-day-2022/
LOCATION:Proctor District\, North 26th & Proctor Streets Tacoma\, WA 98407
ATTACH;FMTTYPE=image/jpeg:https://www.peaksandpints.com/wp-content/uploads/2022/05/Peaks-and-Pints-Orval-Day-2022-calendar.jpg
GEO:47.2769188;-122.4888622
END:VEVENT
BEGIN:VEVENT
DTSTART;TZID=America/Los_Angeles:20161203T080000
DTEND;TZID=America/Los_Angeles:20161203T170000
DTSTAMP:20260419T193149
CREATED:20160424T221046Z
LAST-MODIFIED:20160424T222046Z
UID:10000916-1480752000-1480784400@www.peaksandpints.com
SUMMARY:Proctor District Holiday Fest
DESCRIPTION:There once was a time\, years ago\, when Christmas shopping meant bundling up in coats and scarves before trooping out to the local strip of variety and boutique stores that were adorned with frost-painted windows and holiday lights. Window displays always included train sets\, red-hatted elves and stockings hung from fireplaces. Days were spent pressing cold noses against window glass to peer into mom-and-pop shops on Main Street. \nThose days might be gone in many American neighborhoods\, but Tacoma’s Proctor District never got the memo. \nThe Proctor District Holiday Fest gets its Christmas on with local merchant offers\, shopping at the Farmers Market\, Santa and the Dickens Carolers.
URL:https://www.peaksandpints.com/event/proctor-district-holiday-fest/
LOCATION:Proctor District\, North 26th & Proctor Streets Tacoma\, WA 98407
ATTACH;FMTTYPE=image/jpeg:https://www.peaksandpints.com/wp-content/uploads/2016/04/Proctor-District-Holiday-Fest.jpg
GEO:47.2769188;-122.4888622
END:VEVENT
BEGIN:VEVENT
DTSTART;TZID=America/Los_Angeles:20161031T160000
DTEND;TZID=America/Los_Angeles:20161031T180000
DTSTAMP:20260419T193149
CREATED:20160424T212034Z
LAST-MODIFIED:20160424T214035Z
UID:10000914-1477929600-1477936800@www.peaksandpints.com
SUMMARY:Proctor Treats
DESCRIPTION:The evolution of Halloween is a tragedy of modern times. No longer can parents stick their kids in black costumes and send them off into dark streets unattended\, armed only with a pillowcase and a burning desire for sugar. But this does not mean our country’s future leaders have to spend their childhood earning their Smarties by trick-or-treating in the mall. Instead\, gather up the tykes and motor over to the Proctor District businesses for the traditional\, safe Proctor Treats trick or treat event\, 4-6 p.m.
URL:https://www.peaksandpints.com/event/proctor-treats/
LOCATION:Proctor District\, North 26th & Proctor Streets Tacoma\, WA 98407
ATTACH;FMTTYPE=image/jpeg:https://www.peaksandpints.com/wp-content/uploads/2016/04/Proctor-Treats-Tacoma.jpg
GEO:47.2769188;-122.4888622
END:VEVENT
END:VCALENDAR