BEGIN:VCALENDAR
VERSION:2.0
PRODID:-//Peaks and Pints Proctor Tacoma - ECPv6.15.15//NONSGML v1.0//EN
CALSCALE:GREGORIAN
METHOD:PUBLISH
X-ORIGINAL-URL:https://www.peaksandpints.com
X-WR-CALDESC:Events for Peaks and Pints Proctor Tacoma
REFRESH-INTERVAL;VALUE=DURATION:PT1H
X-Robots-Tag:noindex
X-PUBLISHED-TTL:PT1H
BEGIN:VTIMEZONE
TZID:America/Los_Angeles
BEGIN:DAYLIGHT
TZOFFSETFROM:-0800
TZOFFSETTO:-0700
TZNAME:PDT
DTSTART:20220313T100000
END:DAYLIGHT
BEGIN:STANDARD
TZOFFSETFROM:-0700
TZOFFSETTO:-0800
TZNAME:PST
DTSTART:20221106T090000
END:STANDARD
BEGIN:DAYLIGHT
TZOFFSETFROM:-0800
TZOFFSETTO:-0700
TZNAME:PDT
DTSTART:20230312T100000
END:DAYLIGHT
BEGIN:STANDARD
TZOFFSETFROM:-0700
TZOFFSETTO:-0800
TZNAME:PST
DTSTART:20231105T090000
END:STANDARD
BEGIN:DAYLIGHT
TZOFFSETFROM:-0800
TZOFFSETTO:-0700
TZNAME:PDT
DTSTART:20240310T100000
END:DAYLIGHT
BEGIN:STANDARD
TZOFFSETFROM:-0700
TZOFFSETTO:-0800
TZNAME:PST
DTSTART:20241103T090000
END:STANDARD
END:VTIMEZONE
BEGIN:VEVENT
DTSTART;VALUE=DATE:20230925
DTEND;VALUE=DATE:20230926
DTSTAMP:20260423T125001
CREATED:20230831T171710Z
LAST-MODIFIED:20230831T171710Z
UID:10001684-1695600000-1695686399@www.peaksandpints.com
SUMMARY:Fresh Hoptoberfest VII Days A Week
DESCRIPTION:Fresh Hoptoberfest VII Days A Week\nFor the seventh consecutive September\, Peaks & Pints is throwing a month-long autumn beer party marrying up two popular seasonal beers — fresh hops and Oktoberfest bier. Launching Friday\, Sept. 1\, Peaks & Pints will tap fresh hop and Oktoberfest beers daily through Saturday\, Sept. 30. Expect\, at least\, two bright\, hop-hazy fresh-hop beers on tap AND two clean\, hearty Oktoberfest-style lagers on tap. This year\, we’re calling our annual celebration\, “Peaks and Pints Fresh Hoptoberfest VII Days A Week\,” as we’re including other regional fresh hop and Oktoberfest celebration in a monthlong calendar. \nLINK: Peaks & Pints beer and cider cooler inventory
URL:https://www.peaksandpints.com/event/fresh-hoptoberfest-vii-days-a-week/2023-09-25/
LOCATION:Peaks and Pints Tacoma
ATTACH;FMTTYPE=image/jpeg:https://www.peaksandpints.com/wp-content/uploads/2023/08/Peaks-and-Pints-Fresh-Hoptobeerfest-VII-1.jpg
GEO:47.2528768;-122.4442906
END:VEVENT
BEGIN:VEVENT
DTSTART;VALUE=DATE:20230926
DTEND;VALUE=DATE:20230927
DTSTAMP:20260423T125001
CREATED:20230831T171710Z
LAST-MODIFIED:20230831T171710Z
UID:10001685-1695686400-1695772799@www.peaksandpints.com
SUMMARY:Fresh Hoptoberfest VII Days A Week
DESCRIPTION:Fresh Hoptoberfest VII Days A Week\nFor the seventh consecutive September\, Peaks & Pints is throwing a month-long autumn beer party marrying up two popular seasonal beers — fresh hops and Oktoberfest bier. Launching Friday\, Sept. 1\, Peaks & Pints will tap fresh hop and Oktoberfest beers daily through Saturday\, Sept. 30. Expect\, at least\, two bright\, hop-hazy fresh-hop beers on tap AND two clean\, hearty Oktoberfest-style lagers on tap. This year\, we’re calling our annual celebration\, “Peaks and Pints Fresh Hoptoberfest VII Days A Week\,” as we’re including other regional fresh hop and Oktoberfest celebration in a monthlong calendar. \nLINK: Peaks & Pints beer and cider cooler inventory
URL:https://www.peaksandpints.com/event/fresh-hoptoberfest-vii-days-a-week/2023-09-26/
LOCATION:Peaks and Pints Tacoma
ATTACH;FMTTYPE=image/jpeg:https://www.peaksandpints.com/wp-content/uploads/2023/08/Peaks-and-Pints-Fresh-Hoptobeerfest-VII-1.jpg
GEO:47.2528768;-122.4442906
END:VEVENT
BEGIN:VEVENT
DTSTART;VALUE=DATE:20230927
DTEND;VALUE=DATE:20230928
DTSTAMP:20260423T125001
CREATED:20230831T171710Z
LAST-MODIFIED:20230831T171710Z
UID:10001686-1695772800-1695859199@www.peaksandpints.com
SUMMARY:Fresh Hoptoberfest VII Days A Week
DESCRIPTION:Fresh Hoptoberfest VII Days A Week\nFor the seventh consecutive September\, Peaks & Pints is throwing a month-long autumn beer party marrying up two popular seasonal beers — fresh hops and Oktoberfest bier. Launching Friday\, Sept. 1\, Peaks & Pints will tap fresh hop and Oktoberfest beers daily through Saturday\, Sept. 30. Expect\, at least\, two bright\, hop-hazy fresh-hop beers on tap AND two clean\, hearty Oktoberfest-style lagers on tap. This year\, we’re calling our annual celebration\, “Peaks and Pints Fresh Hoptoberfest VII Days A Week\,” as we’re including other regional fresh hop and Oktoberfest celebration in a monthlong calendar. \nLINK: Peaks & Pints beer and cider cooler inventory
URL:https://www.peaksandpints.com/event/fresh-hoptoberfest-vii-days-a-week/2023-09-27/
LOCATION:Peaks and Pints Tacoma
ATTACH;FMTTYPE=image/jpeg:https://www.peaksandpints.com/wp-content/uploads/2023/08/Peaks-and-Pints-Fresh-Hoptobeerfest-VII-1.jpg
GEO:47.2528768;-122.4442906
END:VEVENT
BEGIN:VEVENT
DTSTART;VALUE=DATE:20230928
DTEND;VALUE=DATE:20230929
DTSTAMP:20260423T125001
CREATED:20230831T171710Z
LAST-MODIFIED:20230831T171710Z
UID:10001687-1695859200-1695945599@www.peaksandpints.com
SUMMARY:Fresh Hoptoberfest VII Days A Week
DESCRIPTION:Fresh Hoptoberfest VII Days A Week\nFor the seventh consecutive September\, Peaks & Pints is throwing a month-long autumn beer party marrying up two popular seasonal beers — fresh hops and Oktoberfest bier. Launching Friday\, Sept. 1\, Peaks & Pints will tap fresh hop and Oktoberfest beers daily through Saturday\, Sept. 30. Expect\, at least\, two bright\, hop-hazy fresh-hop beers on tap AND two clean\, hearty Oktoberfest-style lagers on tap. This year\, we’re calling our annual celebration\, “Peaks and Pints Fresh Hoptoberfest VII Days A Week\,” as we’re including other regional fresh hop and Oktoberfest celebration in a monthlong calendar. \nLINK: Peaks & Pints beer and cider cooler inventory
URL:https://www.peaksandpints.com/event/fresh-hoptoberfest-vii-days-a-week/2023-09-28/
LOCATION:Peaks and Pints Tacoma
ATTACH;FMTTYPE=image/jpeg:https://www.peaksandpints.com/wp-content/uploads/2023/08/Peaks-and-Pints-Fresh-Hoptobeerfest-VII-1.jpg
GEO:47.2528768;-122.4442906
END:VEVENT
BEGIN:VEVENT
DTSTART;VALUE=DATE:20230929
DTEND;VALUE=DATE:20230930
DTSTAMP:20260423T125001
CREATED:20230831T171710Z
LAST-MODIFIED:20230831T171710Z
UID:10001688-1695945600-1696031999@www.peaksandpints.com
SUMMARY:Fresh Hoptoberfest VII Days A Week
DESCRIPTION:Fresh Hoptoberfest VII Days A Week\nFor the seventh consecutive September\, Peaks & Pints is throwing a month-long autumn beer party marrying up two popular seasonal beers — fresh hops and Oktoberfest bier. Launching Friday\, Sept. 1\, Peaks & Pints will tap fresh hop and Oktoberfest beers daily through Saturday\, Sept. 30. Expect\, at least\, two bright\, hop-hazy fresh-hop beers on tap AND two clean\, hearty Oktoberfest-style lagers on tap. This year\, we’re calling our annual celebration\, “Peaks and Pints Fresh Hoptoberfest VII Days A Week\,” as we’re including other regional fresh hop and Oktoberfest celebration in a monthlong calendar. \nLINK: Peaks & Pints beer and cider cooler inventory
URL:https://www.peaksandpints.com/event/fresh-hoptoberfest-vii-days-a-week/2023-09-29/
LOCATION:Peaks and Pints Tacoma
ATTACH;FMTTYPE=image/jpeg:https://www.peaksandpints.com/wp-content/uploads/2023/08/Peaks-and-Pints-Fresh-Hoptobeerfest-VII-1.jpg
GEO:47.2528768;-122.4442906
END:VEVENT
BEGIN:VEVENT
DTSTART;VALUE=DATE:20230930
DTEND;VALUE=DATE:20231001
DTSTAMP:20260423T125001
CREATED:20230831T171710Z
LAST-MODIFIED:20230831T171710Z
UID:10001689-1696032000-1696118399@www.peaksandpints.com
SUMMARY:Fresh Hoptoberfest VII Days A Week
DESCRIPTION:Fresh Hoptoberfest VII Days A Week\nFor the seventh consecutive September\, Peaks & Pints is throwing a month-long autumn beer party marrying up two popular seasonal beers — fresh hops and Oktoberfest bier. Launching Friday\, Sept. 1\, Peaks & Pints will tap fresh hop and Oktoberfest beers daily through Saturday\, Sept. 30. Expect\, at least\, two bright\, hop-hazy fresh-hop beers on tap AND two clean\, hearty Oktoberfest-style lagers on tap. This year\, we’re calling our annual celebration\, “Peaks and Pints Fresh Hoptoberfest VII Days A Week\,” as we’re including other regional fresh hop and Oktoberfest celebration in a monthlong calendar. \nLINK: Peaks & Pints beer and cider cooler inventory
URL:https://www.peaksandpints.com/event/fresh-hoptoberfest-vii-days-a-week/2023-09-30/
LOCATION:Peaks and Pints Tacoma
ATTACH;FMTTYPE=image/jpeg:https://www.peaksandpints.com/wp-content/uploads/2023/08/Peaks-and-Pints-Fresh-Hoptobeerfest-VII-1.jpg
GEO:47.2528768;-122.4442906
END:VEVENT
END:VCALENDAR