BEGIN:VCALENDAR
VERSION:2.0
PRODID:-//Peaks and Pints Proctor Tacoma - ECPv6.15.15//NONSGML v1.0//EN
CALSCALE:GREGORIAN
METHOD:PUBLISH
X-ORIGINAL-URL:https://www.peaksandpints.com
X-WR-CALDESC:Events for Peaks and Pints Proctor Tacoma
REFRESH-INTERVAL;VALUE=DURATION:PT1H
X-Robots-Tag:noindex
X-PUBLISHED-TTL:PT1H
BEGIN:VTIMEZONE
TZID:America/Los_Angeles
BEGIN:DAYLIGHT
TZOFFSETFROM:-0800
TZOFFSETTO:-0700
TZNAME:PDT
DTSTART:20220313T100000
END:DAYLIGHT
BEGIN:STANDARD
TZOFFSETFROM:-0700
TZOFFSETTO:-0800
TZNAME:PST
DTSTART:20221106T090000
END:STANDARD
BEGIN:DAYLIGHT
TZOFFSETFROM:-0800
TZOFFSETTO:-0700
TZNAME:PDT
DTSTART:20230312T100000
END:DAYLIGHT
BEGIN:STANDARD
TZOFFSETFROM:-0700
TZOFFSETTO:-0800
TZNAME:PST
DTSTART:20231105T090000
END:STANDARD
BEGIN:DAYLIGHT
TZOFFSETFROM:-0800
TZOFFSETTO:-0700
TZNAME:PDT
DTSTART:20240310T100000
END:DAYLIGHT
BEGIN:STANDARD
TZOFFSETFROM:-0700
TZOFFSETTO:-0800
TZNAME:PST
DTSTART:20241103T090000
END:STANDARD
END:VTIMEZONE
BEGIN:VEVENT
DTSTART;VALUE=DATE:20230911
DTEND;VALUE=DATE:20230912
DTSTAMP:20260423T124943
CREATED:20230831T171710Z
LAST-MODIFIED:20230831T171710Z
UID:10001670-1694390400-1694476799@www.peaksandpints.com
SUMMARY:Fresh Hoptoberfest VII Days A Week
DESCRIPTION:Fresh Hoptoberfest VII Days A Week\nFor the seventh consecutive September\, Peaks & Pints is throwing a month-long autumn beer party marrying up two popular seasonal beers — fresh hops and Oktoberfest bier. Launching Friday\, Sept. 1\, Peaks & Pints will tap fresh hop and Oktoberfest beers daily through Saturday\, Sept. 30. Expect\, at least\, two bright\, hop-hazy fresh-hop beers on tap AND two clean\, hearty Oktoberfest-style lagers on tap. This year\, we’re calling our annual celebration\, “Peaks and Pints Fresh Hoptoberfest VII Days A Week\,” as we’re including other regional fresh hop and Oktoberfest celebration in a monthlong calendar. \nLINK: Peaks & Pints beer and cider cooler inventory
URL:https://www.peaksandpints.com/event/fresh-hoptoberfest-vii-days-a-week/2023-09-11/
LOCATION:Peaks and Pints Tacoma
ATTACH;FMTTYPE=image/jpeg:https://www.peaksandpints.com/wp-content/uploads/2023/08/Peaks-and-Pints-Fresh-Hoptobeerfest-VII-1.jpg
GEO:47.2528768;-122.4442906
END:VEVENT
BEGIN:VEVENT
DTSTART;VALUE=DATE:20230912
DTEND;VALUE=DATE:20230913
DTSTAMP:20260423T124943
CREATED:20230831T171710Z
LAST-MODIFIED:20230831T171710Z
UID:10001671-1694476800-1694563199@www.peaksandpints.com
SUMMARY:Fresh Hoptoberfest VII Days A Week
DESCRIPTION:Fresh Hoptoberfest VII Days A Week\nFor the seventh consecutive September\, Peaks & Pints is throwing a month-long autumn beer party marrying up two popular seasonal beers — fresh hops and Oktoberfest bier. Launching Friday\, Sept. 1\, Peaks & Pints will tap fresh hop and Oktoberfest beers daily through Saturday\, Sept. 30. Expect\, at least\, two bright\, hop-hazy fresh-hop beers on tap AND two clean\, hearty Oktoberfest-style lagers on tap. This year\, we’re calling our annual celebration\, “Peaks and Pints Fresh Hoptoberfest VII Days A Week\,” as we’re including other regional fresh hop and Oktoberfest celebration in a monthlong calendar. \nLINK: Peaks & Pints beer and cider cooler inventory
URL:https://www.peaksandpints.com/event/fresh-hoptoberfest-vii-days-a-week/2023-09-12/
LOCATION:Peaks and Pints Tacoma
ATTACH;FMTTYPE=image/jpeg:https://www.peaksandpints.com/wp-content/uploads/2023/08/Peaks-and-Pints-Fresh-Hoptobeerfest-VII-1.jpg
GEO:47.2528768;-122.4442906
END:VEVENT
BEGIN:VEVENT
DTSTART;TZID=America/Los_Angeles:20230912T170000
DTEND;TZID=America/Los_Angeles:20230912T200000
DTSTAMP:20260423T124943
CREATED:20230908T160144Z
LAST-MODIFIED:20230908T160144Z
UID:10001344-1694538000-1694548800@www.peaksandpints.com
SUMMARY:Peaks and Pints Nick at Night Industry Party
DESCRIPTION:Peaks and Pints Nick at Night Industry Party\nNick Walsh began his beer career at night bartending in Tacoma\, including Doyle’s Public House. Then\, Nick spent time in the daylight selling beer for Marine View Beverage\, Columbia\, and currently as owner of 44 Degrees Beverage Sales Solutions repping a dozen or so craft breweries and cideries with his team. Tuesday\, Sept. 12\, Nick returns to the dark hours — OK\, maybe not completely dark due to daylight savings time — when he throws a party for his clients and friends at Peaks & Pints craft beer and cider bar\, bottle shop and restaurant in Tacoma’s Proctor District. \nPeaks & Pints will follow Nick’s party rider plan tapping beer and cider from Belching Beaver Brewery\, Boneyard Beer\, Double Mountain Brewery\, E9 Brewing\, Everybody’s Brewing\, Hellbent Brewery\, Incline Cider\, Occidental Brewing\, Maritime Pacific Brewing\, and Silver City Brewery\, as well as playing his favorite Nick at Nite shows on our big screen. \nIf you enjoy delicious beer and cider\, as well as industry hugs and inside jokes\, we’ll see you Tuesday\, Sept. 12\, at Peaks & Pints. \nPEAKS AND PINTS Nick AT NIGHT INDUSTRY PARTY\, 5 p.m. Tuesday\, Sept. 12\, 3816 N. 26th St.\, Basecamp Proctor\, Tacoma \nLINK: Peaks & Pints beer and cider cooler inventory
URL:https://www.peaksandpints.com/event/peaks-and-pints-nick-at-night-industry-party/
LOCATION:Peaks and Pints\, 3816 N. 26th Street   Tacoma\, WA 98407 United States
ATTACH;FMTTYPE=image/jpeg:https://www.peaksandpints.com/wp-content/uploads/2023/09/Peaks-and-Pints-Nick-at-Night-Calendar.jpg
GEO:47.270797;-122.488194
END:VEVENT
BEGIN:VEVENT
DTSTART;VALUE=DATE:20230913
DTEND;VALUE=DATE:20230914
DTSTAMP:20260423T124943
CREATED:20230831T171710Z
LAST-MODIFIED:20230831T171710Z
UID:10001672-1694563200-1694649599@www.peaksandpints.com
SUMMARY:Fresh Hoptoberfest VII Days A Week
DESCRIPTION:Fresh Hoptoberfest VII Days A Week\nFor the seventh consecutive September\, Peaks & Pints is throwing a month-long autumn beer party marrying up two popular seasonal beers — fresh hops and Oktoberfest bier. Launching Friday\, Sept. 1\, Peaks & Pints will tap fresh hop and Oktoberfest beers daily through Saturday\, Sept. 30. Expect\, at least\, two bright\, hop-hazy fresh-hop beers on tap AND two clean\, hearty Oktoberfest-style lagers on tap. This year\, we’re calling our annual celebration\, “Peaks and Pints Fresh Hoptoberfest VII Days A Week\,” as we’re including other regional fresh hop and Oktoberfest celebration in a monthlong calendar. \nLINK: Peaks & Pints beer and cider cooler inventory
URL:https://www.peaksandpints.com/event/fresh-hoptoberfest-vii-days-a-week/2023-09-13/
LOCATION:Peaks and Pints Tacoma
ATTACH;FMTTYPE=image/jpeg:https://www.peaksandpints.com/wp-content/uploads/2023/08/Peaks-and-Pints-Fresh-Hoptobeerfest-VII-1.jpg
GEO:47.2528768;-122.4442906
END:VEVENT
BEGIN:VEVENT
DTSTART;VALUE=DATE:20230914
DTEND;VALUE=DATE:20230915
DTSTAMP:20260423T124943
CREATED:20230831T171710Z
LAST-MODIFIED:20230831T171710Z
UID:10001673-1694649600-1694735999@www.peaksandpints.com
SUMMARY:Fresh Hoptoberfest VII Days A Week
DESCRIPTION:Fresh Hoptoberfest VII Days A Week\nFor the seventh consecutive September\, Peaks & Pints is throwing a month-long autumn beer party marrying up two popular seasonal beers — fresh hops and Oktoberfest bier. Launching Friday\, Sept. 1\, Peaks & Pints will tap fresh hop and Oktoberfest beers daily through Saturday\, Sept. 30. Expect\, at least\, two bright\, hop-hazy fresh-hop beers on tap AND two clean\, hearty Oktoberfest-style lagers on tap. This year\, we’re calling our annual celebration\, “Peaks and Pints Fresh Hoptoberfest VII Days A Week\,” as we’re including other regional fresh hop and Oktoberfest celebration in a monthlong calendar. \nLINK: Peaks & Pints beer and cider cooler inventory
URL:https://www.peaksandpints.com/event/fresh-hoptoberfest-vii-days-a-week/2023-09-14/
LOCATION:Peaks and Pints Tacoma
ATTACH;FMTTYPE=image/jpeg:https://www.peaksandpints.com/wp-content/uploads/2023/08/Peaks-and-Pints-Fresh-Hoptobeerfest-VII-1.jpg
GEO:47.2528768;-122.4442906
END:VEVENT
BEGIN:VEVENT
DTSTART;VALUE=DATE:20230915
DTEND;VALUE=DATE:20230916
DTSTAMP:20260423T124943
CREATED:20230831T171710Z
LAST-MODIFIED:20230831T171710Z
UID:10001674-1694736000-1694822399@www.peaksandpints.com
SUMMARY:Fresh Hoptoberfest VII Days A Week
DESCRIPTION:Fresh Hoptoberfest VII Days A Week\nFor the seventh consecutive September\, Peaks & Pints is throwing a month-long autumn beer party marrying up two popular seasonal beers — fresh hops and Oktoberfest bier. Launching Friday\, Sept. 1\, Peaks & Pints will tap fresh hop and Oktoberfest beers daily through Saturday\, Sept. 30. Expect\, at least\, two bright\, hop-hazy fresh-hop beers on tap AND two clean\, hearty Oktoberfest-style lagers on tap. This year\, we’re calling our annual celebration\, “Peaks and Pints Fresh Hoptoberfest VII Days A Week\,” as we’re including other regional fresh hop and Oktoberfest celebration in a monthlong calendar. \nLINK: Peaks & Pints beer and cider cooler inventory
URL:https://www.peaksandpints.com/event/fresh-hoptoberfest-vii-days-a-week/2023-09-15/
LOCATION:Peaks and Pints Tacoma
ATTACH;FMTTYPE=image/jpeg:https://www.peaksandpints.com/wp-content/uploads/2023/08/Peaks-and-Pints-Fresh-Hoptobeerfest-VII-1.jpg
GEO:47.2528768;-122.4442906
END:VEVENT
BEGIN:VEVENT
DTSTART;VALUE=DATE:20230916
DTEND;VALUE=DATE:20230917
DTSTAMP:20260423T124943
CREATED:20230831T171710Z
LAST-MODIFIED:20230831T171710Z
UID:10001675-1694822400-1694908799@www.peaksandpints.com
SUMMARY:Fresh Hoptoberfest VII Days A Week
DESCRIPTION:Fresh Hoptoberfest VII Days A Week\nFor the seventh consecutive September\, Peaks & Pints is throwing a month-long autumn beer party marrying up two popular seasonal beers — fresh hops and Oktoberfest bier. Launching Friday\, Sept. 1\, Peaks & Pints will tap fresh hop and Oktoberfest beers daily through Saturday\, Sept. 30. Expect\, at least\, two bright\, hop-hazy fresh-hop beers on tap AND two clean\, hearty Oktoberfest-style lagers on tap. This year\, we’re calling our annual celebration\, “Peaks and Pints Fresh Hoptoberfest VII Days A Week\,” as we’re including other regional fresh hop and Oktoberfest celebration in a monthlong calendar. \nLINK: Peaks & Pints beer and cider cooler inventory
URL:https://www.peaksandpints.com/event/fresh-hoptoberfest-vii-days-a-week/2023-09-16/
LOCATION:Peaks and Pints Tacoma
ATTACH;FMTTYPE=image/jpeg:https://www.peaksandpints.com/wp-content/uploads/2023/08/Peaks-and-Pints-Fresh-Hoptobeerfest-VII-1.jpg
GEO:47.2528768;-122.4442906
END:VEVENT
BEGIN:VEVENT
DTSTART;VALUE=DATE:20230917
DTEND;VALUE=DATE:20230918
DTSTAMP:20260423T124943
CREATED:20230831T171710Z
LAST-MODIFIED:20230831T171710Z
UID:10001676-1694908800-1694995199@www.peaksandpints.com
SUMMARY:Fresh Hoptoberfest VII Days A Week
DESCRIPTION:Fresh Hoptoberfest VII Days A Week\nFor the seventh consecutive September\, Peaks & Pints is throwing a month-long autumn beer party marrying up two popular seasonal beers — fresh hops and Oktoberfest bier. Launching Friday\, Sept. 1\, Peaks & Pints will tap fresh hop and Oktoberfest beers daily through Saturday\, Sept. 30. Expect\, at least\, two bright\, hop-hazy fresh-hop beers on tap AND two clean\, hearty Oktoberfest-style lagers on tap. This year\, we’re calling our annual celebration\, “Peaks and Pints Fresh Hoptoberfest VII Days A Week\,” as we’re including other regional fresh hop and Oktoberfest celebration in a monthlong calendar. \nLINK: Peaks & Pints beer and cider cooler inventory
URL:https://www.peaksandpints.com/event/fresh-hoptoberfest-vii-days-a-week/2023-09-17/
LOCATION:Peaks and Pints Tacoma
ATTACH;FMTTYPE=image/jpeg:https://www.peaksandpints.com/wp-content/uploads/2023/08/Peaks-and-Pints-Fresh-Hoptobeerfest-VII-1.jpg
GEO:47.2528768;-122.4442906
END:VEVENT
END:VCALENDAR