BEGIN:VCALENDAR
VERSION:2.0
PRODID:-//Peaks and Pints Proctor Tacoma - ECPv6.15.15//NONSGML v1.0//EN
CALSCALE:GREGORIAN
METHOD:PUBLISH
X-ORIGINAL-URL:https://www.peaksandpints.com
X-WR-CALDESC:Events for Peaks and Pints Proctor Tacoma
REFRESH-INTERVAL;VALUE=DURATION:PT1H
X-Robots-Tag:noindex
X-PUBLISHED-TTL:PT1H
BEGIN:VTIMEZONE
TZID:America/Los_Angeles
BEGIN:DAYLIGHT
TZOFFSETFROM:-0800
TZOFFSETTO:-0700
TZNAME:PDT
DTSTART:20220313T100000
END:DAYLIGHT
BEGIN:STANDARD
TZOFFSETFROM:-0700
TZOFFSETTO:-0800
TZNAME:PST
DTSTART:20221106T090000
END:STANDARD
BEGIN:DAYLIGHT
TZOFFSETFROM:-0800
TZOFFSETTO:-0700
TZNAME:PDT
DTSTART:20230312T100000
END:DAYLIGHT
BEGIN:STANDARD
TZOFFSETFROM:-0700
TZOFFSETTO:-0800
TZNAME:PST
DTSTART:20231105T090000
END:STANDARD
BEGIN:DAYLIGHT
TZOFFSETFROM:-0800
TZOFFSETTO:-0700
TZNAME:PDT
DTSTART:20240310T100000
END:DAYLIGHT
BEGIN:STANDARD
TZOFFSETFROM:-0700
TZOFFSETTO:-0800
TZNAME:PST
DTSTART:20241103T090000
END:STANDARD
END:VTIMEZONE
BEGIN:VEVENT
DTSTART;TZID=America/Los_Angeles:20230829T170000
DTEND;TZID=America/Los_Angeles:20230829T200000
DTSTAMP:20260423T100751
CREATED:20230826T205550Z
LAST-MODIFIED:20230826T205550Z
UID:10001658-1693328400-1693339200@www.peaksandpints.com
SUMMARY:Peaks and Pints pFriem West Coast IPA party
DESCRIPTION:pFriem Family Brewers has just released West Coast IPA\, their sixth beer in their year-round 12-ounce can\, and Peaks & Pints celebrates with a release party for the new red can at 5 p.m. Tuesday\, Aug. 29 in our North Tacoma lodge. \npFriem’s West Coast IPA is brewed with high-quality pale malt from British Columbia\, and a touch of corn sugar to allow the hops to effuse a vibrant aroma. The beer incorporates a blend of Pacific Northwest’s powerhouse\, Citra\, and Oregon’s new-school hop\, Strata. This fusion creates bright\, aromatic notes of tangerine\, cannabis\, strawberry\, starfruit\, and grapefruit\, and features a lean and bright palate. This contemporary interpretation of the classic style is designed to be dry and crisp\, with a modern and striking hop profile. \nPeaks & Pints hosts a release party for the new pFriem West Coast IPA Aug. 29. We’ll also tap pFriem’s flagship IPA for side-to-side comparisons\, plus several other pFriem beers. \nLINK: Peaks & Pints beer and cider cooler inventory
URL:https://www.peaksandpints.com/event/peaks-and-pints-pfriem-west-coast-ipa-party/
LOCATION:Peaks and Pints\, 3816 N. 26th Street   Tacoma\, WA 98407 United States
ATTACH;FMTTYPE=image/jpeg:https://www.peaksandpints.com/wp-content/uploads/2023/08/Peaks-and-Pints-pFriem-West-Coast-calendar-1.jpg
GEO:47.270797;-122.488194
END:VEVENT
BEGIN:VEVENT
DTSTART;VALUE=DATE:20230901
DTEND;VALUE=DATE:20230902
DTSTAMP:20260423T100751
CREATED:20230831T171710Z
LAST-MODIFIED:20230831T171710Z
UID:10001660-1693526400-1693612799@www.peaksandpints.com
SUMMARY:Fresh Hoptoberfest VII Days A Week
DESCRIPTION:Fresh Hoptoberfest VII Days A Week\nFor the seventh consecutive September\, Peaks & Pints is throwing a month-long autumn beer party marrying up two popular seasonal beers — fresh hops and Oktoberfest bier. Launching Friday\, Sept. 1\, Peaks & Pints will tap fresh hop and Oktoberfest beers daily through Saturday\, Sept. 30. Expect\, at least\, two bright\, hop-hazy fresh-hop beers on tap AND two clean\, hearty Oktoberfest-style lagers on tap. This year\, we’re calling our annual celebration\, “Peaks and Pints Fresh Hoptoberfest VII Days A Week\,” as we’re including other regional fresh hop and Oktoberfest celebration in a monthlong calendar. \nLINK: Peaks & Pints beer and cider cooler inventory
URL:https://www.peaksandpints.com/event/fresh-hoptoberfest-vii-days-a-week/2023-09-01/
LOCATION:Peaks and Pints Tacoma
ATTACH;FMTTYPE=image/jpeg:https://www.peaksandpints.com/wp-content/uploads/2023/08/Peaks-and-Pints-Fresh-Hoptobeerfest-VII-1.jpg
GEO:47.2528768;-122.4442906
END:VEVENT
BEGIN:VEVENT
DTSTART;VALUE=DATE:20230902
DTEND;VALUE=DATE:20230903
DTSTAMP:20260423T100751
CREATED:20230831T171710Z
LAST-MODIFIED:20230831T171710Z
UID:10001661-1693612800-1693699199@www.peaksandpints.com
SUMMARY:Fresh Hoptoberfest VII Days A Week
DESCRIPTION:Fresh Hoptoberfest VII Days A Week\nFor the seventh consecutive September\, Peaks & Pints is throwing a month-long autumn beer party marrying up two popular seasonal beers — fresh hops and Oktoberfest bier. Launching Friday\, Sept. 1\, Peaks & Pints will tap fresh hop and Oktoberfest beers daily through Saturday\, Sept. 30. Expect\, at least\, two bright\, hop-hazy fresh-hop beers on tap AND two clean\, hearty Oktoberfest-style lagers on tap. This year\, we’re calling our annual celebration\, “Peaks and Pints Fresh Hoptoberfest VII Days A Week\,” as we’re including other regional fresh hop and Oktoberfest celebration in a monthlong calendar. \nLINK: Peaks & Pints beer and cider cooler inventory
URL:https://www.peaksandpints.com/event/fresh-hoptoberfest-vii-days-a-week/2023-09-02/
LOCATION:Peaks and Pints Tacoma
ATTACH;FMTTYPE=image/jpeg:https://www.peaksandpints.com/wp-content/uploads/2023/08/Peaks-and-Pints-Fresh-Hoptobeerfest-VII-1.jpg
GEO:47.2528768;-122.4442906
END:VEVENT
BEGIN:VEVENT
DTSTART;VALUE=DATE:20230903
DTEND;VALUE=DATE:20230904
DTSTAMP:20260423T100751
CREATED:20230831T171710Z
LAST-MODIFIED:20230831T171710Z
UID:10001662-1693699200-1693785599@www.peaksandpints.com
SUMMARY:Fresh Hoptoberfest VII Days A Week
DESCRIPTION:Fresh Hoptoberfest VII Days A Week\nFor the seventh consecutive September\, Peaks & Pints is throwing a month-long autumn beer party marrying up two popular seasonal beers — fresh hops and Oktoberfest bier. Launching Friday\, Sept. 1\, Peaks & Pints will tap fresh hop and Oktoberfest beers daily through Saturday\, Sept. 30. Expect\, at least\, two bright\, hop-hazy fresh-hop beers on tap AND two clean\, hearty Oktoberfest-style lagers on tap. This year\, we’re calling our annual celebration\, “Peaks and Pints Fresh Hoptoberfest VII Days A Week\,” as we’re including other regional fresh hop and Oktoberfest celebration in a monthlong calendar. \nLINK: Peaks & Pints beer and cider cooler inventory
URL:https://www.peaksandpints.com/event/fresh-hoptoberfest-vii-days-a-week/2023-09-03/
LOCATION:Peaks and Pints Tacoma
ATTACH;FMTTYPE=image/jpeg:https://www.peaksandpints.com/wp-content/uploads/2023/08/Peaks-and-Pints-Fresh-Hoptobeerfest-VII-1.jpg
GEO:47.2528768;-122.4442906
END:VEVENT
END:VCALENDAR