BEGIN:VCALENDAR
VERSION:2.0
PRODID:-//Peaks and Pints Proctor Tacoma - ECPv6.15.15//NONSGML v1.0//EN
CALSCALE:GREGORIAN
METHOD:PUBLISH
X-WR-CALNAME:Peaks and Pints Proctor Tacoma
X-ORIGINAL-URL:https://www.peaksandpints.com
X-WR-CALDESC:Events for Peaks and Pints Proctor Tacoma
REFRESH-INTERVAL;VALUE=DURATION:PT1H
X-Robots-Tag:noindex
X-PUBLISHED-TTL:PT1H
BEGIN:VTIMEZONE
TZID:America/Los_Angeles
BEGIN:DAYLIGHT
TZOFFSETFROM:-0800
TZOFFSETTO:-0700
TZNAME:PDT
DTSTART:20220313T100000
END:DAYLIGHT
BEGIN:STANDARD
TZOFFSETFROM:-0700
TZOFFSETTO:-0800
TZNAME:PST
DTSTART:20221106T090000
END:STANDARD
BEGIN:DAYLIGHT
TZOFFSETFROM:-0800
TZOFFSETTO:-0700
TZNAME:PDT
DTSTART:20230312T100000
END:DAYLIGHT
BEGIN:STANDARD
TZOFFSETFROM:-0700
TZOFFSETTO:-0800
TZNAME:PST
DTSTART:20231105T090000
END:STANDARD
BEGIN:DAYLIGHT
TZOFFSETFROM:-0800
TZOFFSETTO:-0700
TZNAME:PDT
DTSTART:20240310T100000
END:DAYLIGHT
BEGIN:STANDARD
TZOFFSETFROM:-0700
TZOFFSETTO:-0800
TZNAME:PST
DTSTART:20241103T090000
END:STANDARD
END:VTIMEZONE
BEGIN:VEVENT
DTSTART;TZID=America/Los_Angeles:20230727T170000
DTEND;TZID=America/Los_Angeles:20230727T200000
DTSTAMP:20260423T112921
CREATED:20230725T000548Z
LAST-MODIFIED:20230725T000548Z
UID:10001653-1690477200-1690488000@www.peaksandpints.com
SUMMARY:Peaks and Pints Kulshan Summer Party
DESCRIPTION:Peaks and Pints Kulshan Summer Party\nKulshan Brewing has recently released their Dad Bod Hazy Pale Ale and Zwickel Festbier\, and Peaks & Pints invites you to taste them and other Kulshan beers from 5-8 p.m. Thursday\, July 27. \nFounded in 2012 by Bellingham native David Vitt\, Kulshan was one of the fastest-growing breweries in Whatcom County. Just one year after opening\, they doubled the size of their brewhouse to 15 barrels to keep up with demand. In 2015\, Kulshan opened a second brewery\, affectionately named “K2”\, across town with a 30-barrel brewhouse. In 2019\, Kulshan won the Peaks & Pints Tournament of Beer: Northwest Pilsners with their German-Style Pilsner\, which will be on tap Thursday night. In the summer of 2021\, Kulshan opened Trackside Brewery and Beer Garden\, a pilot brewery and seasonal\, pop-up beer garden located on the former Georgia Pacific paper mill site in downtown Bellingham’s redeveloping waterfront district. In addition to their delicious beers\, the Kulshan crew are all about outdoor adventures\, dog hugging\, collaborations\, charitable contributions\, and community interaction\, which you will recognize when the Kulshan team sets up shop at Peaks & Pints July 27. \nPEAKS AND PINTS KULSHAN SUMMER PARTY\, 5-8 p.m. Thursday\, July 27\, Basecamp Proctor\, Tacoma \nLINK: Peaks and Pints beer and cider cooler inventory
URL:https://www.peaksandpints.com/event/peaks-and-pints-kulshan-summer-party/
LOCATION:Peaks and Pints\, 3816 N. 26th Street   Tacoma\, WA 98407 United States
ATTACH;FMTTYPE=image/jpeg:https://www.peaksandpints.com/wp-content/uploads/2023/07/Kulshan-Party-Calendar.jpg
GEO:47.270797;-122.488194
END:VEVENT
END:VCALENDAR