BEGIN:VCALENDAR
VERSION:2.0
PRODID:-//Peaks and Pints Proctor Tacoma - ECPv6.15.15//NONSGML v1.0//EN
CALSCALE:GREGORIAN
METHOD:PUBLISH
X-WR-CALNAME:Peaks and Pints Proctor Tacoma
X-ORIGINAL-URL:https://www.peaksandpints.com
X-WR-CALDESC:Events for Peaks and Pints Proctor Tacoma
REFRESH-INTERVAL;VALUE=DURATION:PT1H
X-Robots-Tag:noindex
X-PUBLISHED-TTL:PT1H
BEGIN:VTIMEZONE
TZID:America/Los_Angeles
BEGIN:DAYLIGHT
TZOFFSETFROM:-0800
TZOFFSETTO:-0700
TZNAME:PDT
DTSTART:20220313T100000
END:DAYLIGHT
BEGIN:STANDARD
TZOFFSETFROM:-0700
TZOFFSETTO:-0800
TZNAME:PST
DTSTART:20221106T090000
END:STANDARD
BEGIN:DAYLIGHT
TZOFFSETFROM:-0800
TZOFFSETTO:-0700
TZNAME:PDT
DTSTART:20230312T100000
END:DAYLIGHT
BEGIN:STANDARD
TZOFFSETFROM:-0700
TZOFFSETTO:-0800
TZNAME:PST
DTSTART:20231105T090000
END:STANDARD
BEGIN:DAYLIGHT
TZOFFSETFROM:-0800
TZOFFSETTO:-0700
TZNAME:PDT
DTSTART:20240310T100000
END:DAYLIGHT
BEGIN:STANDARD
TZOFFSETFROM:-0700
TZOFFSETTO:-0800
TZNAME:PST
DTSTART:20241103T090000
END:STANDARD
END:VTIMEZONE
BEGIN:VEVENT
DTSTART;TZID=America/Los_Angeles:20230720T170000
DTEND;TZID=America/Los_Angeles:20230720T200000
DTSTAMP:20260423T125209
CREATED:20230716T190754Z
LAST-MODIFIED:20230716T190754Z
UID:10001651-1689872400-1689883200@www.peaksandpints.com
SUMMARY:Peaks and Pints Craftwell Cocktails Night
DESCRIPTION:Peaks and Pints Craftwell Cocktails Night\nThursday\, July 20\, the Peaks & Pints bartender will write “Cocktail Night” on our outdoor sandwich board. Yes\, Peaks & Pints will pour 20.5-percent cocktails — but the plotline thickens with apple wine\, which is essentially apple juice that has gone through the same process as you would making wine. Craftwell Cocktails blends apple wine with real fruit and ingredients to recreate the cocktail experience. \nCraftwell Cocktails Chocolate Espresso Martini \n20.5% ABV \nVodka\, Baileys\, crème de cacao\, and espresso meet\, take a ride in the hand shaker and chill over ice in a chocolate-rimmed martini glass. Enter Craftwell Cocktails. Oh\, you’re going dig this. Craftwell Cocktails Chocolate Espresso Martini marries rich coffee with dark chocolate notes creating a sweet and velvety slice of mocha heaven. \nCraftwell Cocktails Top Shelf Classic Cosmo \n20.5% ABV \nThe Cosmopolitan\, a cocktail made famous by the sassy\, serially unattached women on HBO’s Sex and the City\, is a combination of vodka\, Cointreau and splashes of lime and cranberry juices. Craftwell Cocktails’ version weaves together vibrant cranberries with key lime to form a balanced\, tangy\, and delightful gem of a drink. \nCraftwell Cocktails Old Fashioned \n20.5% ABV \nThere’s no doubt that the Old Fashioned cocktail stands the test of time. Despite tracing its origins all the way back to the late 1800s\, the traditional cocktail is a simple one\, made with bourbon or rye whiskey\, a bit of sugar\, a splash of water\, a few dashes of Angostura bitters\, garnished with an orange twist and/or Luxardo cherry. Craftwell Cocktails’ version is made with sweet orange zest mingling with bourbon aromas. \nCraftwell Cocktails Signature Margarita \n20.5% ABV \nSalt\, sugar\, or nothing? Rocks or blended? Straight or flavored with mango\, guava or some other tropical fruit that epitomizes warm beaches\, blue seas\, and palm trees? What other drink gives you so many choices and so quickly recalls lazy summer evenings than the margarita\, a perfect balance of sweet and tart\, ideal for a steamy day. Craftwell Cocktails’ version layers bright fresh Mexican key lime aromas with a kiss of sweet orange\, followed by an underlying earthy sweetness of agave. \nFore more information\, click here. \nCRAFTWELL COCKTAILS NIGHT AT PEAKS & PINTS\, 5-8 p.m. Thursday\, July 20\, 3816 N. 26th St.\, Basecamp Proctor\, Tacoma
URL:https://www.peaksandpints.com/event/peaks-and-pints-craftwell-cocktails-night/
LOCATION:Peaks and Pints\, 3816 N. 26th Street   Tacoma\, WA 98407 United States
ATTACH;FMTTYPE=image/jpeg:https://www.peaksandpints.com/wp-content/uploads/2023/07/peaks-and-pints-craftwell-cocktails-night-1.jpg
GEO:47.270797;-122.488194
END:VEVENT
END:VCALENDAR