BEGIN:VCALENDAR
VERSION:2.0
PRODID:-//Peaks and Pints Proctor Tacoma - ECPv6.15.15//NONSGML v1.0//EN
CALSCALE:GREGORIAN
METHOD:PUBLISH
X-ORIGINAL-URL:https://www.peaksandpints.com
X-WR-CALDESC:Events for Peaks and Pints Proctor Tacoma
REFRESH-INTERVAL;VALUE=DURATION:PT1H
X-Robots-Tag:noindex
X-PUBLISHED-TTL:PT1H
BEGIN:VTIMEZONE
TZID:America/Los_Angeles
BEGIN:DAYLIGHT
TZOFFSETFROM:-0800
TZOFFSETTO:-0700
TZNAME:PDT
DTSTART:20240310T100000
END:DAYLIGHT
BEGIN:STANDARD
TZOFFSETFROM:-0700
TZOFFSETTO:-0800
TZNAME:PST
DTSTART:20241103T090000
END:STANDARD
BEGIN:DAYLIGHT
TZOFFSETFROM:-0800
TZOFFSETTO:-0700
TZNAME:PDT
DTSTART:20250309T100000
END:DAYLIGHT
BEGIN:STANDARD
TZOFFSETFROM:-0700
TZOFFSETTO:-0800
TZNAME:PST
DTSTART:20251102T090000
END:STANDARD
BEGIN:DAYLIGHT
TZOFFSETFROM:-0800
TZOFFSETTO:-0700
TZNAME:PDT
DTSTART:20260308T100000
END:DAYLIGHT
BEGIN:STANDARD
TZOFFSETFROM:-0700
TZOFFSETTO:-0800
TZNAME:PST
DTSTART:20261101T090000
END:STANDARD
END:VTIMEZONE
BEGIN:VEVENT
DTSTART;TZID=America/Los_Angeles:20251023T170000
DTEND;TZID=America/Los_Angeles:20251023T183000
DTSTAMP:20260423T143250
CREATED:20251016T224748Z
LAST-MODIFIED:20251016T224748Z
UID:10001833-1761238800-1761244200@www.peaksandpints.com
SUMMARY:pFriem Georgetown Tao Collab Party at Peaks
DESCRIPTION:pFriem Georgetown Tao Collab Party at Peaks\nEvery once in a while\, the beer gods drop a riddle instead of a recipe. This one comes wrapped in Cascade mist and stainless-steel meditation: The Tao of Josh and The Tao of Manny\, two West Coast IPAs born from the same ingredients\, same blueprint\, and utterly different souls. \nOne flows from the immaculate temple of pFriem Family Brewers\, where Josh Pfriem coaxes perfection from malt and mineral\, turning water into something close to prayer. The other bursts from Georgetown Brewing’s happy hive\, where Manny Chao’s grin could carbonate a keg and where “drinkability” is both gospel and punchline. Together they brewed enlightenment by way of lupulin\, then set their twin creations loose upon the world — to teach\, to tingle\, to test our palates for bias and balance. \nThis Thursday\, October 23\, from 5 to 7 p.m.\, the journey pauses in Tacoma. Peaks & Pints becomes the dojo of duality — a place to taste the yin and the yang of the same recipe\, the micro-differences that make craft beer feel like philosophy in liquid form. \nAre you a Josh or a Manny? A crisp-cut stoic or a smooth-talking hop mystic? Do you chase clarity or vibe? Either way\, enlightenment pours at Peaks & Pints\, where both Taos will meet on tap\, side by side\, glowing like twin suns in a West Coast sky. \nTHE TAO OF JOSH & THE TAO OF MANNY WEST COAST IPAS RELEASE PARTY\, 5-7 p.m.\, Thursday\, Oct. 23\, Peaks & Pints\, 3816 N. 26th St.\, Basecamp proctor\, Tacoma\, no cover \nLINK: Peaks & Pints beer and cider cooler inventory
URL:https://www.peaksandpints.com/event/pfriem-georgetown-tao-collab-party-at-peaks/
LOCATION:Peaks and Pints\, 3816 N. 26th Street   Tacoma\, WA 98407 United States
ATTACH;FMTTYPE=image/jpeg:https://www.peaksandpints.com/wp-content/uploads/2025/10/The-Tao-of-Josh-The-Tao-of-Manny-Peaks-and-Pints-Tacoma-1.jpg
GEO:47.270797;-122.488194
END:VEVENT
END:VCALENDAR