BEGIN:VCALENDAR
VERSION:2.0
PRODID:-//Peaks and Pints Proctor Tacoma - ECPv6.15.15//NONSGML v1.0//EN
CALSCALE:GREGORIAN
METHOD:PUBLISH
X-WR-CALNAME:Peaks and Pints Proctor Tacoma
X-ORIGINAL-URL:https://www.peaksandpints.com
X-WR-CALDESC:Events for Peaks and Pints Proctor Tacoma
REFRESH-INTERVAL;VALUE=DURATION:PT1H
X-Robots-Tag:noindex
X-PUBLISHED-TTL:PT1H
BEGIN:VTIMEZONE
TZID:America/Los_Angeles
BEGIN:DAYLIGHT
TZOFFSETFROM:-0800
TZOFFSETTO:-0700
TZNAME:PDT
DTSTART:20190310T100000
END:DAYLIGHT
BEGIN:STANDARD
TZOFFSETFROM:-0700
TZOFFSETTO:-0800
TZNAME:PST
DTSTART:20191103T090000
END:STANDARD
BEGIN:DAYLIGHT
TZOFFSETFROM:-0800
TZOFFSETTO:-0700
TZNAME:PDT
DTSTART:20200308T100000
END:DAYLIGHT
BEGIN:STANDARD
TZOFFSETFROM:-0700
TZOFFSETTO:-0800
TZNAME:PST
DTSTART:20201101T090000
END:STANDARD
BEGIN:DAYLIGHT
TZOFFSETFROM:-0800
TZOFFSETTO:-0700
TZNAME:PDT
DTSTART:20210314T100000
END:DAYLIGHT
BEGIN:STANDARD
TZOFFSETFROM:-0700
TZOFFSETTO:-0800
TZNAME:PST
DTSTART:20211107T090000
END:STANDARD
END:VTIMEZONE
BEGIN:VTIMEZONE
TZID:America/Los_Angeles
BEGIN:DAYLIGHT
TZOFFSETFROM:-0800
TZOFFSETTO:-0700
TZNAME:PDT
DTSTART:20180311T100000
END:DAYLIGHT
BEGIN:STANDARD
TZOFFSETFROM:-0700
TZOFFSETTO:-0800
TZNAME:PST
DTSTART:20181104T090000
END:STANDARD
BEGIN:DAYLIGHT
TZOFFSETFROM:-0800
TZOFFSETTO:-0700
TZNAME:PDT
DTSTART:20190310T100000
END:DAYLIGHT
BEGIN:STANDARD
TZOFFSETFROM:-0700
TZOFFSETTO:-0800
TZNAME:PST
DTSTART:20191103T090000
END:STANDARD
BEGIN:DAYLIGHT
TZOFFSETFROM:-0800
TZOFFSETTO:-0700
TZNAME:PDT
DTSTART:20200308T100000
END:DAYLIGHT
BEGIN:STANDARD
TZOFFSETFROM:-0700
TZOFFSETTO:-0800
TZNAME:PST
DTSTART:20201101T090000
END:STANDARD
END:VTIMEZONE
BEGIN:VEVENT
DTSTART;TZID=America/Los_Angeles:20200131T110000
DTEND;TZID=America/Los_Angeles:20200131T230000
DTSTAMP:20260423T164539
CREATED:20200120T203553Z
LAST-MODIFIED:20200120T203553Z
UID:10001446-1580468400-1580511600@www.peaksandpints.com
SUMMARY:Peaks and Pints Tartuary 2020
DESCRIPTION:Tart\, funky\, sour\, wild — all flavors you’ve surely experienced if you’ve ever drank a sour beer worth its salt (gose pun!). \nWait\, what’s that? You’ve never had a sour beer? Seriously? No worries\, prep your gut for some funky fermentation when Peaks & Pints lets nature loose on our Western red cedar tap log for our second annual Tartuary\, Friday\, Jan. 31. \nExpect upward of 12 or so sour or wild-fermented beers all day. \nPEAKS AND PINTS TARTUARY\, 11 a.m.to 11 p.m. Friday\, Jan. 31\, Peaks and Pints\, 3816 N. 26th St.\, Basecamp Proctor\, Tacoma\, no cover
URL:https://www.peaksandpints.com/event/peaks-and-pints-tartuary-2020/
LOCATION:Peaks and Pints\, 3816 N. 26th Street   Tacoma\, WA 98407 United States
ATTACH;FMTTYPE=image/jpeg:https://www.peaksandpints.com/wp-content/uploads/2020/01/Peaks-and-Pints-Tartuary-Calendar-2020.jpg
GEO:47.270797;-122.488194
END:VEVENT
BEGIN:VEVENT
DTSTART;TZID=America/Los_Angeles:20190131T110000
DTEND;TZID=America/Los_Angeles:20190131T230000
DTSTAMP:20260423T164539
CREATED:20190122T222555Z
LAST-MODIFIED:20190122T222555Z
UID:10001069-1548932400-1548975600@www.peaksandpints.com
SUMMARY:Peaks and Pints Tartuary
DESCRIPTION:Peaks and Pints Tartuary\nThere was a time when you didn’t think you wanted\, or needed beer with tasting notes such as “barnyard” and “horse blanket.” That was before you received your shirt\, membership card and named engraved on the Beer Club plaques for drinking 50 beers in 90 days at Engine House No. 9 in Tacoma. You drank the lagers\, IPAs\, porters and stouts in the breeze\, ignoring the giant bottles of award-winning E9 brewery and Belgian sours until day 88. You then polished off 12 or so sours in two days grabbing a spot in Tacoma beer history\, or least a sweet spot in the historic firehouse-turned-craft-beer-bar. \nYes\, you worked through a stomach thing for a few days\, but you were intrigued. Just as your perception of bitter hops grew from mild disgust to full-blown obsession\, developing a taste for the tartness of lambics\, funkness of Flemish reds and sourness of wild ales took you some time. But as you continued to search for new frontiers\, sour beer provides a world of untapped potential. \nToday\, after learning Peaks and Pints will tap a plethora of sour beers on the last day of January\, you’re actually stoked. Peaks and Pints will coax you to skip the last day of Dryuary with Tartuary\, a full day of 12 or so tart and tangy\, wilder ales that make the geeks go gaga. \nPeaks and Pints readies for February by pouring the wild west of the beer world. Cheers! \nPEAKS AND PINTS TARTUARY\, 11 a.m.to 11 p.m. Thursday\, Jan. 31\, Peaks and Pints\, 3816 N. 26th St.\, Basecamp Proctor\, Tacoma\, no cover
URL:https://www.peaksandpints.com/event/peaks-and-pints-tartuary/
LOCATION:Peaks and Pints\, 3816 N. 26th Street   Tacoma\, WA 98407 United States
ATTACH;FMTTYPE=image/jpeg:https://www.peaksandpints.com/wp-content/uploads/2019/01/Peaks-and-Pints-Tartuary-calendar.jpg
GEO:47.270797;-122.488194
END:VEVENT
END:VCALENDAR