BEGIN:VCALENDAR
VERSION:2.0
PRODID:-//Peaks and Pints Proctor Tacoma - ECPv6.15.15//NONSGML v1.0//EN
CALSCALE:GREGORIAN
METHOD:PUBLISH
X-WR-CALNAME:Peaks and Pints Proctor Tacoma
X-ORIGINAL-URL:https://www.peaksandpints.com
X-WR-CALDESC:Events for Peaks and Pints Proctor Tacoma
REFRESH-INTERVAL;VALUE=DURATION:PT1H
X-Robots-Tag:noindex
X-PUBLISHED-TTL:PT1H
BEGIN:VTIMEZONE
TZID:America/Los_Angeles
BEGIN:DAYLIGHT
TZOFFSETFROM:-0800
TZOFFSETTO:-0700
TZNAME:PDT
DTSTART:20240310T100000
END:DAYLIGHT
BEGIN:STANDARD
TZOFFSETFROM:-0700
TZOFFSETTO:-0800
TZNAME:PST
DTSTART:20241103T090000
END:STANDARD
BEGIN:DAYLIGHT
TZOFFSETFROM:-0800
TZOFFSETTO:-0700
TZNAME:PDT
DTSTART:20250309T100000
END:DAYLIGHT
BEGIN:STANDARD
TZOFFSETFROM:-0700
TZOFFSETTO:-0800
TZNAME:PST
DTSTART:20251102T090000
END:STANDARD
BEGIN:DAYLIGHT
TZOFFSETFROM:-0800
TZOFFSETTO:-0700
TZNAME:PDT
DTSTART:20260308T100000
END:DAYLIGHT
BEGIN:STANDARD
TZOFFSETFROM:-0700
TZOFFSETTO:-0800
TZNAME:PST
DTSTART:20261101T090000
END:STANDARD
BEGIN:DAYLIGHT
TZOFFSETFROM:-0800
TZOFFSETTO:-0700
TZNAME:PDT
DTSTART:20270314T100000
END:DAYLIGHT
BEGIN:STANDARD
TZOFFSETFROM:-0700
TZOFFSETTO:-0800
TZNAME:PST
DTSTART:20271107T090000
END:STANDARD
END:VTIMEZONE
BEGIN:VEVENT
DTSTART;TZID=America/Los_Angeles:20260301T170000
DTEND;TZID=America/Los_Angeles:20260301T200000
DTSTAMP:20260419T062408
CREATED:20260210T235410Z
LAST-MODIFIED:20260211T025438Z
UID:10002242-1772384400-1772395200@www.peaksandpints.com
SUMMARY:Tacoma Beer Week Basecamp March 1: Kareem Kandi & Cantillon
DESCRIPTION:Tacoma Beer Week Basecamp March 1: Kareem Kandi & Cantillon\nTacoma Beer Week Basecamp continues Sunday at Peaks & Pints with an evening built around listening closely — to music\, to beer\, to the room itself. \nTacoma Beer Week (Feb. 27–March 8) is a citywide celebration of breweries\, neighborhood bars\, and the people who move between them with curiosity and intention. Peaks & Pints’ “Tacoma Beer Week Basecamp” is a daily event in itself: a place to gather\, take stock\, experience the day’s featured Peaks & Pints offering\, and then decide where the rest of the night leads. \nSunday\, March 1’s Basecamp aligns perfectly with Peaks & Pints’ monthly Sunday jazz night featuring Kareem Kandi\, who performs at Peaks & Pints every first Sunday from 5 to 8 p.m.\, sponsored in part by Tacoma Creates. A saxophonist\, composer\, arranger\, and educator\, Kandi leads a deeply intuitive trio with bassist Greg Feingold and drummer Jacques Willis\, creating jazz that feels conversational\, attentive\, and alive in the room. \nTo mark the occasion\, Peaks & Pints will pour two exceptionally rare lambic drafts from Brouwerij Cantillon: Cantillon Magic Lambic and Cantillon Fou’ Foune. \nMagic Lambic offers layered berry depth with lambic’s wild acidity and a subtle touch of vanilla — bright\, vinous\, and quietly mesmerizing. Fou’ Foune\, Cantillon’s celebrated apricot lambic\, delivers plush fruit aromatics and earthy complexity\, tasting less like “apricot flavor” and more like biting into sun-warmed fruit in the middle of fermentation magic. Draft Cantillon is always rare; two at once is a genuine moment. \nThis Basecamp isn’t about rushing off or checking boxes. It’s about arriving\, letting the music and the beer set the tempo\, and allowing the night to unfold from there — whether that means heading out into more Tacoma Beer Week events or staying put and listening a little longer. \nTacoma Beer Week Basecamp March 1: Kareem Kandi & Cantillon\nSunday\, March 1\, 2026\nPeaks & Pints\, 3816 N. 26th St.\, Proctor District\nCantillon + Jazz: 5–8 p.m. \nLINK: Peaks & Pints beer and cider cooler inventory
URL:https://www.peaksandpints.com/event/tacoma-beer-week-basecamp-march-1-kareem-kandi-cantillon/
LOCATION:Peaks and Pints\, 3816 N. 26th Street   Tacoma\, WA 98407 United States
ATTACH;FMTTYPE=image/jpeg:https://www.peaksandpints.com/wp-content/uploads/2026/02/Tacoma-Beer-Week-Basecamp-Kareem-Calendar-1.jpg
GEO:47.270797;-122.488194
END:VEVENT
BEGIN:VEVENT
DTSTART;TZID=America/Los_Angeles:20251207T170000
DTEND;TZID=America/Los_Angeles:20251207T200000
DTSTAMP:20260419T062408
CREATED:20251207T201636Z
LAST-MODIFIED:20251207T201636Z
UID:10001840-1765126800-1765137600@www.peaksandpints.com
SUMMARY:Jambic & Lazz with Kareem Kandi
DESCRIPTION:Sunday night at Peaks & Pints tips into the deliciously unusual as Jambic & Lazz returns — the monthly communion where lambic’s wild\, tart sorcery meets Kareem Kandi’s molten jazz lines in a slow\, ecstatic swirl. Lambic\, born of open windows\, wandering microbes\, and ancient foeders\, pours like time made drinkable\, while Kareem — Tacoma’s smoothest sonic conjurer — bends swing\, blues\, and celestial mischief into solos that drift through the room like incense from another dimension. It’s less a concert than a gentle haunting\, less a beer flight than a fermentation ritual where jazz and yeast seem to breathe together. \nSuggested lambic: Oude Geuze De Cam \nOude Geuze De Cam pours with a hiss and a halo — pale gold\, alive with microfoam and the scent of time itself. The nose offers orchard apples\, hayloft funk\, oak tannins\, maybe a touch of lemon peel dragged through wool. On the tongue? Tart citrus\, cider tang\, delicate oak\, lambic earthiness\, and a sparkle that lands somewhere between a bonfire smoke ring and a vintage Cremant. \nThis isn’t beer that asks if you like sour — it demands to know if you’re ready for transformation. It’s fermented memory. It’s complexity in cork and cage. And tonight\, it has a soundtrack. \nLINK: Peaks & Pints beer and cider cooler inventory
URL:https://www.peaksandpints.com/event/jambic-lazz-with-kareem-kandi/
LOCATION:Peaks and Pints\, 3816 N. 26th Street   Tacoma\, WA 98407 United States
ATTACH;FMTTYPE=image/jpeg:https://www.peaksandpints.com/wp-content/uploads/2025/12/Jambic-Lazz-with-Kareem-Kandi-.jpg
GEO:47.270797;-122.488194
END:VEVENT
BEGIN:VEVENT
DTSTART;TZID=America/Los_Angeles:20251102T170000
DTEND;TZID=America/Los_Angeles:20251102T200000
DTSTAMP:20260419T062408
CREATED:20251102T193559Z
LAST-MODIFIED:20251102T194456Z
UID:10001835-1762102800-1762113600@www.peaksandpints.com
SUMMARY:Peaks & Pints Sunday Jambic & Lazz Nov. 2
DESCRIPTION:Peaks & Pints Sunday Jambic & Lazz Nov. 2\nPeaks & Pints wants you to have a musty\, horse-blanketed\, spontaneously fermented good time this Sunday night — and who are you to say no to wild yeast and saxophone ecstasy? Yes\, we’re pairing jazz with lambics again\, because life is short and needs more tang. It’s Jambic & Lazz\, our monthly communion of Belgian beer funk and Kareem Kandi’s molten jazz trio\, swirling together in our Events Room like microbes in a French oak barrel — 5 to 8 p.m.\, every first Sunday\, forever if we’re lucky. \nThis is not just beer. This is terroir turned scripture. This is the Senne River Valley preaching through airborne bacteria\, barrel staves\, and those blessed\, tart little Schaerbeek cherries. Lambic isn’t a style; it’s a sacred accident\, a wild ferment miracle only possible in a postage-stamp of Pajottenland near Brussels\, protected like a relic and guarded like bourbon or Champagne. Each bottle is a living\, evolving\, deeply personal argument with nature — and nature\, in this case\, brought funk and fruit and hayloft seduction. \nSunday’s sermon: De Cam Oude Gueuze\, the patient elder of Gooik — a three-year blend that smells like the soul of a barn that learned jazz: lemon peel and green apple over oak and dust\, horse-blanket funk playing rhythm under a tart\, sparkling brass section of Brettanomyces. It’s time in a bottle\, uncorked with reverence. \nThen there’s Kareem. The coolest cat in Tacoma\, a saxophonist whose tone could caramelize steel. He’s got chops\, he’s got grace\, he’s got the ghost of Dexter Gordon perched on his shoulder whispering “just one more chorus.” His trio doesn’t play songs so much as conduct séances with the jazz gods\, conjuring riffs that twist around your lambic like a Miles Davis solo in a dusty cellar bar at the end of the world. \nCome sip the weird. Come taste time. Come listen. Come ferment. \nJAMBIC & LAZZ with Kareem Kandi Jazz Trio & lambics — 5-8 p.m. Sunday\, Nov. 2Peaks & Pints\, 3816 N. 26th St.\, Basecamp Proctor\, Tacoma — no cover \nLINK: Peaks & Pints beer and cider cooler inventory
URL:https://www.peaksandpints.com/event/peaks-pints-sunday-jambic-lazz-nov-2/
LOCATION:Peaks and Pints\, 3816 N. 26th Street   Tacoma\, WA 98407 United States
ATTACH;FMTTYPE=image/jpeg:https://www.peaksandpints.com/wp-content/uploads/2025/07/Jambic-Lazz-Calendar-7-6-25.jpg
ORGANIZER;CN="Kareem Kandi World Orchestra":MAILTO:kareemkandi@hotmail.com
GEO:47.270797;-122.488194
END:VEVENT
BEGIN:VEVENT
DTSTART;TZID=America/Los_Angeles:20250706T170000
DTEND;TZID=America/Los_Angeles:20250706T200000
DTSTAMP:20260419T062408
CREATED:20250704T134957Z
LAST-MODIFIED:20250704T134957Z
UID:10001798-1751821200-1751832000@www.peaksandpints.com
SUMMARY:Peaks & Pints Sunday Jambic & Lazz July 6
DESCRIPTION:Peaks & Pints Sunday Jambic & Lazz July 6\nPeaks & Pints wants you to have a musty\, horse-blanketed\, spontaneously fermented good time this Sunday night—and who are you to say no to wild yeast and saxophone ecstasy? Yes\, we’re pairing jazz with lambics again\, because life is short and needs more tang. It’s Jambic & Lazz\, our monthly communion of Belgian beer funk and Kareem Kandi’s molten jazz trio\, swirling together in our Events Room like microbes in a French oak barrel—5 to 8 p.m.\, every first Sunday\, forever if we’re lucky. \nThis is not just beer. This is terroir turned scripture. This is the Senne River Valley preaching through airborne bacteria\, barrel staves\, and those blessed\, tart little Schaerbeek cherries. Lambic isn’t a style; it’s a sacred accident\, a wild ferment miracle only possible in a postage stamp of Pajottenland near Brussels\, protected like a sacred relic and legally guarded like bourbon or Champagne. Each bottle is a living\, evolving\, deeply personal argument with nature—and nature\, in this case\, brought funk and fruit and hayloft seduction. Gueuze\, kriek\, faro—these beers don’t follow trends. They outlast them. \nThen there’s Kareem. The coolest cat in Tacoma\, a saxophonist whose tone could caramelize steel\, recently back from blowing his horn across France. He’s got chops\, he’s got grace\, he’s got the ghost of Dexter Gordon perched on his shoulder whispering “just one more chorus.” His trio doesn’t play songs so much as conduct séances with the jazz gods\, conjuring riffs that twist around your lambic like a Miles Davis solo in a dusty cellar bar at the end of the world. \nCome sip the weird. Come taste time. Come listen. Come ferment. \nJAMBIC & LAZZ with Kareem Kandi Jazz Trio and lambics\, 5-8 p.m. Sunday\, June 6\, Peaks & Pints\, 3816 N. 26th St.\, Basecamp Proctor\, Tacoma\, no cover \nLINK: Peaks & Pints beer and cider cooler inventory
URL:https://www.peaksandpints.com/event/peaks-pints-sunday-jambic-lazz-july-6/
LOCATION:Peaks and Pints\, 3816 N. 26th Street   Tacoma\, WA 98407 United States
ATTACH;FMTTYPE=image/jpeg:https://www.peaksandpints.com/wp-content/uploads/2025/07/Jambic-Lazz-Calendar-7-6-25.jpg
ORGANIZER;CN="Kareem Kandi World Orchestra":MAILTO:kareemkandi@hotmail.com
GEO:47.270797;-122.488194
END:VEVENT
BEGIN:VEVENT
DTSTART;TZID=America/Los_Angeles:20250601T170000
DTEND;TZID=America/Los_Angeles:20250601T200000
DTSTAMP:20260419T062408
CREATED:20250529T165331Z
LAST-MODIFIED:20250529T165331Z
UID:10001795-1748797200-1748808000@www.peaksandpints.com
SUMMARY:Peaks & Pints Sunday Jambic & Lazz June 1
DESCRIPTION:Peaks & Pints Sunday Jambic & Lazz June 1\nPeaks & Pints wants you to have a musty\, old leather\, barnyard\, horse-blanket\, and tart good time Sunday night. This should be easy since we’re pairing lambics with jazz in our Events Room from 5 to 8 p.m. Every first Sunday\, we host Jambic & Lazz\, an early evening of lambics paired with Kareem Kandi and his jazz trio. \nLambic\, like music\, requires years of dedication and a consuming passion. Whether straight\, faro\, gueuze\, or fruit-based\, lambics are produced only in one area of Belgium\, the Senne River Valley\, south and west of Brussels in the Pajottenland region. Officially speaking\, lambic is an appellation like “Champagne” and “bourbon”; the “l-word” is strictly enforced and reserved for beers made exclusively in the designated region. Most importantly\, they’re beers spontaneously fermented by the airborne wild yeasts and bacteria present in this valley and nowhere else on the face of the Earth. Nature didn’t just bless this area with the right yeasts and bacteria — it also endowed it with an ideal climate for slow fermentation\, easy access to French wine barrels\, and even tart Schaerbeek cherries. The real beauty of these ales is how different they are from brewery to brewery\, batch to batch\, barrel to barrel. Hell\, the beer even changes with each sip down the glass. Adventure is out there — or at least in our Events Room. \nThe coolest cat in Tacoma\, saxophonist Kareem Kandi\, and his jazz trio perform on the first Sunday in the Peaks & Pints Events Room. Kandi is a versatile musician with strong roots in the traditions of jazz\, blues\, classical\, and funk\, and has been performing throughout the U.S. and abroad for years\, gaining attention from critics and audiences alike.  While staying true to the musical styles of the past\, he also looks to the future by composing original music and new arrangements of timeless songs from the great American songbook. He just returned from a month-long tour in France\, so hopefully\, he will share stories. \nJAMBIC & LAZZ with Kareem Kandi Jazz Trio and lambics\, 5-8 p.m. Sunday\, June 1\, Peaks & Pints\, 3816 N. 26th St.\, Basecamp Proctor\, Tacoma\, no cover \nLINK: Peaks & Pints beer and cider cooler inventory
URL:https://www.peaksandpints.com/event/peaks-pints-sunday-jambic-lazz-june-1/
LOCATION:Peaks and Pints\, 3816 N. 26th Street   Tacoma\, WA 98407 United States
ATTACH;FMTTYPE=image/jpeg:https://www.peaksandpints.com/wp-content/uploads/2025/05/Peaks-Pints-Sunday-Jambic-Lazz-June-1-Calendar.jpg
GEO:47.270797;-122.488194
END:VEVENT
BEGIN:VEVENT
DTSTART;TZID=America/Los_Angeles:20250504T170000
DTEND;TZID=America/Los_Angeles:20250504T200000
DTSTAMP:20260419T062408
CREATED:20250428T222017Z
LAST-MODIFIED:20250428T222017Z
UID:10001792-1746378000-1746388800@www.peaksandpints.com
SUMMARY:Peaks & Pints Sunday Jambic & Lazz
DESCRIPTION:Peaks & Pints Sunday Jambic & Lazz\nPeaks & Pints wants you to have a musty\, old leather\, barnyard\, horse-blanket\, and tart good time Sunday night. This should be easy since we’re pairing lambics with jazz in our Events Room from 5 to 8 p.m. Every first Sunday\, we host Jambic & Lazz\, an early evening of lambics paired with Kareem Kandi and his jazz trio. \nLambic\, like music\, requires years of dedication and a consuming passion. Whether straight\, faro\, gueuze\, or fruit-based\, lambics are produced only in one area of Belgium\, the Senne River Valley\, south and west of Brussels in the Pajottenland region. Officially speaking\, lambic is an appellation like “Champagne” and “bourbon”; the l-word is strictly enforced and reserved for beers made exclusively in said region. Most importantly\, they’re beers spontaneously fermented by the airborne wild yeasts and bacteria present in this valley and nowhere else on the face of the Earth. Nature didn’t just bless this area with the right yeasts and bacteria — it also endowed it with an ideal climate for slow fermentation\, easy access to French wine barrels\, and even tart Schaerbeek cherries. The real beauty of these ales is how different they are from brewery to brewery\, batch to batch\, barrel to barrel. Hell\, the beer even changes with each sip down the glass. Adventure is out there — or at least in our Events Room. \nThe coolest cat in Tacoma\, saxophonist Kareem Kandi\, and his jazz trio perform on the first Sunday in the Peaks & Pints Events Room. Kandi is a versatile musician with strong roots in the traditions of jazz\, blues\, classical\, and funk\, and has been performing throughout the U.S. and abroad for years\, gaining attention from critics and audiences alike.  While staying true to the musical styles of the past\, he also keeps an eye toward the future by composing original music and new arrangements of timeless songs from the great American songbook. He just returned from a month-long tour in France\, so hopefully\, he will share stories.  \nJAMBIC & LAZZ with Kareem Kandi Jazz Trio and lambics\, 5-8 p.m. Sunday\, May 4\, Peaks & Pints\, 3816 N. 26th St.\, Basecamp Proctor\, Tacoma\, no cover \nLINK: Peaks & Pints beer and cider cooler inventory
URL:https://www.peaksandpints.com/event/peaks-pints-sunday-jambic-lazz-2/
LOCATION:Peaks and Pints\, 3816 N. 26th Street   Tacoma\, WA 98407 United States
ATTACH;FMTTYPE=image/jpeg:https://www.peaksandpints.com/wp-content/uploads/2025/04/Jambic-Lazz-Calendar-5-4-25.jpg
GEO:47.270797;-122.488194
END:VEVENT
END:VCALENDAR