BEGIN:VCALENDAR
VERSION:2.0
PRODID:-//Peaks and Pints Proctor Tacoma - ECPv6.15.15//NONSGML v1.0//EN
CALSCALE:GREGORIAN
METHOD:PUBLISH
X-WR-CALNAME:Peaks and Pints Proctor Tacoma
X-ORIGINAL-URL:https://www.peaksandpints.com
X-WR-CALDESC:Events for Peaks and Pints Proctor Tacoma
REFRESH-INTERVAL;VALUE=DURATION:PT1H
X-Robots-Tag:noindex
X-PUBLISHED-TTL:PT1H
BEGIN:VTIMEZONE
TZID:America/Los_Angeles
BEGIN:DAYLIGHT
TZOFFSETFROM:-0800
TZOFFSETTO:-0700
TZNAME:PDT
DTSTART:20250309T100000
END:DAYLIGHT
BEGIN:STANDARD
TZOFFSETFROM:-0700
TZOFFSETTO:-0800
TZNAME:PST
DTSTART:20251102T090000
END:STANDARD
BEGIN:DAYLIGHT
TZOFFSETFROM:-0800
TZOFFSETTO:-0700
TZNAME:PDT
DTSTART:20260308T100000
END:DAYLIGHT
BEGIN:STANDARD
TZOFFSETFROM:-0700
TZOFFSETTO:-0800
TZNAME:PST
DTSTART:20261101T090000
END:STANDARD
BEGIN:DAYLIGHT
TZOFFSETFROM:-0800
TZOFFSETTO:-0700
TZNAME:PDT
DTSTART:20270314T100000
END:DAYLIGHT
BEGIN:STANDARD
TZOFFSETFROM:-0700
TZOFFSETTO:-0800
TZNAME:PST
DTSTART:20271107T090000
END:STANDARD
END:VTIMEZONE
BEGIN:VEVENT
DTSTART;TZID=America/Los_Angeles:20260301T170000
DTEND;TZID=America/Los_Angeles:20260301T200000
DTSTAMP:20260423T133536
CREATED:20260210T235410Z
LAST-MODIFIED:20260211T025438Z
UID:10002242-1772384400-1772395200@www.peaksandpints.com
SUMMARY:Tacoma Beer Week Basecamp March 1: Kareem Kandi & Cantillon
DESCRIPTION:Tacoma Beer Week Basecamp March 1: Kareem Kandi & Cantillon\nTacoma Beer Week Basecamp continues Sunday at Peaks & Pints with an evening built around listening closely — to music\, to beer\, to the room itself. \nTacoma Beer Week (Feb. 27–March 8) is a citywide celebration of breweries\, neighborhood bars\, and the people who move between them with curiosity and intention. Peaks & Pints’ “Tacoma Beer Week Basecamp” is a daily event in itself: a place to gather\, take stock\, experience the day’s featured Peaks & Pints offering\, and then decide where the rest of the night leads. \nSunday\, March 1’s Basecamp aligns perfectly with Peaks & Pints’ monthly Sunday jazz night featuring Kareem Kandi\, who performs at Peaks & Pints every first Sunday from 5 to 8 p.m.\, sponsored in part by Tacoma Creates. A saxophonist\, composer\, arranger\, and educator\, Kandi leads a deeply intuitive trio with bassist Greg Feingold and drummer Jacques Willis\, creating jazz that feels conversational\, attentive\, and alive in the room. \nTo mark the occasion\, Peaks & Pints will pour two exceptionally rare lambic drafts from Brouwerij Cantillon: Cantillon Magic Lambic and Cantillon Fou’ Foune. \nMagic Lambic offers layered berry depth with lambic’s wild acidity and a subtle touch of vanilla — bright\, vinous\, and quietly mesmerizing. Fou’ Foune\, Cantillon’s celebrated apricot lambic\, delivers plush fruit aromatics and earthy complexity\, tasting less like “apricot flavor” and more like biting into sun-warmed fruit in the middle of fermentation magic. Draft Cantillon is always rare; two at once is a genuine moment. \nThis Basecamp isn’t about rushing off or checking boxes. It’s about arriving\, letting the music and the beer set the tempo\, and allowing the night to unfold from there — whether that means heading out into more Tacoma Beer Week events or staying put and listening a little longer. \nTacoma Beer Week Basecamp March 1: Kareem Kandi & Cantillon\nSunday\, March 1\, 2026\nPeaks & Pints\, 3816 N. 26th St.\, Proctor District\nCantillon + Jazz: 5–8 p.m. \nLINK: Peaks & Pints beer and cider cooler inventory
URL:https://www.peaksandpints.com/event/tacoma-beer-week-basecamp-march-1-kareem-kandi-cantillon/
LOCATION:Peaks and Pints\, 3816 N. 26th Street   Tacoma\, WA 98407 United States
ATTACH;FMTTYPE=image/jpeg:https://www.peaksandpints.com/wp-content/uploads/2026/02/Tacoma-Beer-Week-Basecamp-Kareem-Calendar-1.jpg
GEO:47.270797;-122.488194
END:VEVENT
END:VCALENDAR