BEGIN:VCALENDAR
VERSION:2.0
PRODID:-//Peaks and Pints Proctor Tacoma - ECPv6.15.15//NONSGML v1.0//EN
CALSCALE:GREGORIAN
METHOD:PUBLISH
X-WR-CALNAME:Peaks and Pints Proctor Tacoma
X-ORIGINAL-URL:https://www.peaksandpints.com
X-WR-CALDESC:Events for Peaks and Pints Proctor Tacoma
REFRESH-INTERVAL;VALUE=DURATION:PT1H
X-Robots-Tag:noindex
X-PUBLISHED-TTL:PT1H
BEGIN:VTIMEZONE
TZID:America/Los_Angeles
BEGIN:DAYLIGHT
TZOFFSETFROM:-0800
TZOFFSETTO:-0700
TZNAME:PDT
DTSTART:20240310T100000
END:DAYLIGHT
BEGIN:STANDARD
TZOFFSETFROM:-0700
TZOFFSETTO:-0800
TZNAME:PST
DTSTART:20241103T090000
END:STANDARD
BEGIN:DAYLIGHT
TZOFFSETFROM:-0800
TZOFFSETTO:-0700
TZNAME:PDT
DTSTART:20250309T100000
END:DAYLIGHT
BEGIN:STANDARD
TZOFFSETFROM:-0700
TZOFFSETTO:-0800
TZNAME:PST
DTSTART:20251102T090000
END:STANDARD
BEGIN:DAYLIGHT
TZOFFSETFROM:-0800
TZOFFSETTO:-0700
TZNAME:PDT
DTSTART:20260308T100000
END:DAYLIGHT
BEGIN:STANDARD
TZOFFSETFROM:-0700
TZOFFSETTO:-0800
TZNAME:PST
DTSTART:20261101T090000
END:STANDARD
END:VTIMEZONE
BEGIN:VEVENT
DTSTART;TZID=America/Los_Angeles:20250521T170000
DTEND;TZID=America/Los_Angeles:20250521T200000
DTSTAMP:20260423T145125
CREATED:20250515T144327Z
LAST-MODIFIED:20250515T144327Z
UID:10001794-1747846800-1747857600@www.peaksandpints.com
SUMMARY:Fort George 2025 3-Way IPA Release Party
DESCRIPTION:Fort George 2025 3-Way IPA Release Party\nSummer is an exciting time for beer nerds. Regionally\, the season is met with the release of Fort George Brewery‘s (Astoria\, Ore.) 3-Way IPA. The hoppy beer is an annual collaboration — in its 13th year — with two other West Coast breweries. Sunriver Brewing (Sunriver\, Ore.) and Mirage Beer (Seattle\, Wash.) join this year’s brew. Join Peaks & Pints for the Official Tacoma 3-Way IPA Release at 5 p.m. Wednesday\, May 21. We will have 3-Way and other Fort George beers\, plus several from Mirage\, on tap. Fort George Sale Executive Kyle Vormestrand will be in-house sampling and handing out swag from 5-8 p.m. \nTHE STORY \nFort George’s 3-Way IPA has become a signal to the start of summer. Once a year\, Fort George extends an invitation to two breweries\, chosen for their mastery in the art of IPAs. The goal is to come together\, exchange knowledge\, forge lasting friendships\, and create an IPA that everyone is excited to drink along the way. That collaboration is then brewed\, packed into a brilliant new 16-ounce can\, and sent out for the pure enjoyment of the Pacific Northwest. \nThe three breweries start by brainstorming beer sessions in the fall\, brewing Beta IPAs\, blind tastings\, lab tests\, aroma analysis\, color checks\, and long conversations until it’s perfect\, and then putting the newly minted star on stage. The result is like a fine-tuned bluegrass trio on washtub bass\, washboard\, and flute. The line-up changes yearly\, and no two 3-Way IPA collaborations are the same. \nThis year\, Mirage\, Sunriver Brewing\, and Fort George embark on an incredible journey — scaling the cliffs of flavor\, fording rivers of hops\, and crossing fragrant meadows of delicious malt to bring home the perfect West Coast IPA. Brewed with Krush (formerly HBC 586)\, Waimea\, and Nelson hops\, 2025’s 3-Way IPA is a summer beer for summer. This year’s 3-Way artwork is by amateur pet specialist Patrick Long from Portland. \nSee you at Peaks Wednesday with all the swag and such. Cheers! \nFORT GEORGE 2025 3-WAY IPA RELEASE PARTY\, 5-8 p.m.\, Wednesday\, May 21\, Peaks & Pints\, 3816 N. 26th St.\, Basecamp Proctor\, Tacoma\, no cover \nLINK: Peaks & Pints beer and cider cooler inventory
URL:https://www.peaksandpints.com/event/fort-george-2025-3-way-ipa-release-party/
LOCATION:Peaks and Pints\, 3816 N. 26th Street   Tacoma\, WA 98407 United States
ATTACH;FMTTYPE=image/jpeg:https://www.peaksandpints.com/wp-content/uploads/2025/05/Fort-George-2025-3-Way-IPA-calendar.jpg
GEO:47.270797;-122.488194
END:VEVENT
END:VCALENDAR