BEGIN:VCALENDAR
VERSION:2.0
PRODID:-//Peaks and Pints Proctor Tacoma - ECPv6.15.15//NONSGML v1.0//EN
CALSCALE:GREGORIAN
METHOD:PUBLISH
X-WR-CALNAME:Peaks and Pints Proctor Tacoma
X-ORIGINAL-URL:https://www.peaksandpints.com
X-WR-CALDESC:Events for Peaks and Pints Proctor Tacoma
REFRESH-INTERVAL;VALUE=DURATION:PT1H
X-Robots-Tag:noindex
X-PUBLISHED-TTL:PT1H
BEGIN:VTIMEZONE
TZID:America/Los_Angeles
BEGIN:DAYLIGHT
TZOFFSETFROM:-0800
TZOFFSETTO:-0700
TZNAME:PDT
DTSTART:20160313T100000
END:DAYLIGHT
BEGIN:STANDARD
TZOFFSETFROM:-0700
TZOFFSETTO:-0800
TZNAME:PST
DTSTART:20161106T090000
END:STANDARD
BEGIN:DAYLIGHT
TZOFFSETFROM:-0800
TZOFFSETTO:-0700
TZNAME:PDT
DTSTART:20170312T100000
END:DAYLIGHT
BEGIN:STANDARD
TZOFFSETFROM:-0700
TZOFFSETTO:-0800
TZNAME:PST
DTSTART:20171105T090000
END:STANDARD
BEGIN:DAYLIGHT
TZOFFSETFROM:-0800
TZOFFSETTO:-0700
TZNAME:PDT
DTSTART:20180311T100000
END:DAYLIGHT
BEGIN:STANDARD
TZOFFSETFROM:-0700
TZOFFSETTO:-0800
TZNAME:PST
DTSTART:20181104T090000
END:STANDARD
END:VTIMEZONE
BEGIN:VEVENT
DTSTART;TZID=America/Los_Angeles:20170223T180000
DTEND;TZID=America/Los_Angeles:20170223T210000
DTSTAMP:20260419T101529
CREATED:20170218T151516Z
LAST-MODIFIED:20170218T151516Z
UID:10000964-1487872800-1487883600@www.peaksandpints.com
SUMMARY:Fish Dick's at Peaks and Pints
DESCRIPTION:Tasty craft beer\, delicious sandwiches\, conversations with friends and strangers\, one hell of a jukebox; it’s all in the mix when you step out for a night at Peaks and Pints. But sometimes your evening requires more than just a bar tab. Sometimes you want to play around\, challenge your friends\, impress a potential fling or just act like a kid\, (albeit while drinking craft beer.) \nThat’s where Fish Dick’s come in. \nPeaks and Pints will hold a Lodge Meeting with special guests Fish Brewing Company and Dick’s Brewing Company. The night’s shenanigans will include specialty craft beers from both Washington state breweries\, giant Jenga tournament\, door prizes and most likely things that will offend Kanye West. \nFISH DICK’S\, 6 p.m.\, Thursday\, Feb. 23\, Peaks and Pints\, 3816 N. 26th St.\, Tacoma\, no cover
URL:https://www.peaksandpints.com/event/fish-dicks-at-peaks-and-pints/
LOCATION:Peaks and Pints\, 3816 N 26th St\, Tacoma\, WA 98407\, USA
ATTACH;FMTTYPE=image/jpeg:https://www.peaksandpints.com/wp-content/uploads/2017/02/Fish-Dicks-Beer-Night-Tacoma-calendar.jpg
GEO:47.270797;-122.488194
END:VEVENT
END:VCALENDAR