BEGIN:VCALENDAR
VERSION:2.0
PRODID:-//Peaks and Pints Proctor Tacoma - ECPv6.15.15//NONSGML v1.0//EN
CALSCALE:GREGORIAN
METHOD:PUBLISH
X-ORIGINAL-URL:https://www.peaksandpints.com
X-WR-CALDESC:Events for Peaks and Pints Proctor Tacoma
REFRESH-INTERVAL;VALUE=DURATION:PT1H
X-Robots-Tag:noindex
X-PUBLISHED-TTL:PT1H
BEGIN:VTIMEZONE
TZID:America/Los_Angeles
BEGIN:DAYLIGHT
TZOFFSETFROM:-0800
TZOFFSETTO:-0700
TZNAME:PDT
DTSTART:20250309T100000
END:DAYLIGHT
BEGIN:STANDARD
TZOFFSETFROM:-0700
TZOFFSETTO:-0800
TZNAME:PST
DTSTART:20251102T090000
END:STANDARD
BEGIN:DAYLIGHT
TZOFFSETFROM:-0800
TZOFFSETTO:-0700
TZNAME:PDT
DTSTART:20260308T100000
END:DAYLIGHT
BEGIN:STANDARD
TZOFFSETFROM:-0700
TZOFFSETTO:-0800
TZNAME:PST
DTSTART:20261101T090000
END:STANDARD
BEGIN:DAYLIGHT
TZOFFSETFROM:-0800
TZOFFSETTO:-0700
TZNAME:PDT
DTSTART:20270314T100000
END:DAYLIGHT
BEGIN:STANDARD
TZOFFSETFROM:-0700
TZOFFSETTO:-0800
TZNAME:PST
DTSTART:20271107T090000
END:STANDARD
END:VTIMEZONE
BEGIN:VEVENT
DTSTART;TZID=America/Los_Angeles:20260302T170000
DTEND;TZID=America/Los_Angeles:20260302T200000
DTSTAMP:20260419T142557
CREATED:20260212T004604Z
LAST-MODIFIED:20260212T004604Z
UID:10002243-1772470800-1772481600@www.peaksandpints.com
SUMMARY:Tacoma Beer Week Basecamp March 2: Disney & Dunkels
DESCRIPTION:Tacoma Beer Week Basecamp March 2: Disney & Dunkels\nTacoma Beer Week Basecamp continues Monday\, March 2\, at Peaks & Pints with an evening built around community\, music\, and supporting the next generation of Tacoma performers. \nTacoma Beer Week is a citywide celebration of breweries\, neighborhood bars\, and the people who move between them with curiosity and intention. Peaks & Pints’ Tacoma Beer Week Basecamp is a daily event in itself — a place to gather\, take stock\, experience the day’s featured Peaks & Pints offering\, and then decide where the rest of the night leads. \nMonday’s Basecamp\, Disney & Dunkels\, doubles as a fundraiser for the Hunt Middle School Musical Theater Program. Peaks & Pints will donate proceeds from all draft sales from 5 to 8 p.m. to help support student productions and keep live theater thriving for Tacoma’s young performers. \nThe evening features a local singer-songwriter lineup including Erina McLaren\, Rafe Wadleigh\, and Christy Taylor — music instructors at Hunt Middle School — share the stage alongside Hunt teacher Krissy Dustan\, trading songs throughout the evening. Expect a relaxed\, living-room-style atmosphere with nods to musical theater\, Disney favorites\, and original songs that feel right at home in a neighborhood beer bar. \nTo match the theme\, Peaks & Pints will tap both American and German interpretations of dunkel lagers — malt-forward\, smooth\, and quietly expressive beers that invite conversation rather than rush. \nThis Basecamp event isn’t about chasing discounts or racing between stops. It’s a moment to sit down\, hear a song\, raise a glass for a good cause\, and let the rest of Tacoma Beer Week unfold from there. \nStart here. Support the students. Then fan out. \nTacoma Beer Week Basecamp March 2: Disney & Dunkels\nMonday\, March 2\, 2026\nPeaks & Pints\nBasecamp + Songs + Lagers: 5–8 p.m.\nMusic begins at 6 p.m. \nLINK: Peaks & Pints beer and cider cooler inventory
URL:https://www.peaksandpints.com/event/tacoma-beer-week-basecamp-march-2-disney-dunkels/
LOCATION:Peaks and Pints\, 3816 N. 26th Street   Tacoma\, WA 98407 United States
ATTACH;FMTTYPE=image/jpeg:https://www.peaksandpints.com/wp-content/uploads/2026/02/Tacoma-Beer-Week-Basecamp-Calendar-1.jpg
GEO:47.270797;-122.488194
END:VEVENT
BEGIN:VEVENT
DTSTART;TZID=America/Los_Angeles:20260303T170000
DTEND;TZID=America/Los_Angeles:20260303T200000
DTSTAMP:20260419T142557
CREATED:20260212T225750Z
LAST-MODIFIED:20260226T233450Z
UID:10002245-1772557200-1772568000@www.peaksandpints.com
SUMMARY:Tacoma Beer Week Basecamp March 3: Tacoma Tree Foundation
DESCRIPTION:Tacoma Beer Week Basecamp March 3: Tacoma Tree Foundation\nTacoma Beer Week Basecamp continues Tuesday at Peaks & Pints with an evening rooted in community\, sustainability\, and growing Tacoma greener — one pint and one tree at a time. \nTacoma Beer Week is a citywide celebration of breweries\, neighborhood bars\, and the people who move between them with curiosity and intention. Peaks & Pints’ Tacoma Beer Week Basecamp is a daily event in itself — a place to gather\, take stock\, experience the day’s featured Peaks & Pints event\, and then decide where the rest of the night leads. \nFor this Basecamp\, Peaks & Pints welcomes the Tacoma Tree Foundation for a tree giveaway from 5 to 8 p.m.\, bringing approximately 25 young trees for patrons to take home and plant. During the event\, Peaks & Pints will donate all proceeds from draft sales directly to the Tacoma Tree Foundation\, supporting urban canopy programs that help neighborhoods grow cooler\, greener\, and more connected. \nTo match the theme\, the Western redcedar tap log will feature beers with pine\, spruce\, and forest-inspired notes — selections chosen for their resinous\, evergreen character and Pacific Northwest spirit. \nThis Basecamp isn’t about rushing to the next stop. It’s a moment to gather\, share a pint for a good cause\, and leave with something that will keep growing long after Tacoma Beer Week ends. \nStart here. Take a tree. Help Tacoma grow. \nTacoma Beer Week Basecamp: Tacoma Tree Foundation Pinst For Pines\nTuesday\, March 3\, 2026\nPeaks & Pints\nBasecamp + Trees + Draft Fundraiser: 5–8 p.m.\nFree trees available while supplies last \nLINK: Peaks & Pints beer and cider cooler inventory
URL:https://www.peaksandpints.com/event/tacoma-beer-week-basecamp-march-3-tacoma-tree-foundation/
LOCATION:Peaks and Pints\, 3816 N. 26th Street   Tacoma\, WA 98407 United States
GEO:47.270797;-122.488194
END:VEVENT
BEGIN:VEVENT
DTSTART;TZID=America/Los_Angeles:20260305T170000
DTEND;TZID=America/Los_Angeles:20260305T190000
DTSTAMP:20260419T142557
CREATED:20260215T232053Z
LAST-MODIFIED:20260215T232118Z
UID:10002246-1772730000-1772737200@www.peaksandpints.com
SUMMARY:Tacoma Beer Week Basecamp March 5: Narrows Proctor IPA
DESCRIPTION:Tacoma Beer Week Basecamp March 5: Narrows Proctor IPA\nTacoma Beer Week Basecamp continues Thursday\, March 5\, at Peaks & Pints with a Proctor District–style pregame built around collaboration\, community\, and a brand-new neighborhood beer. \nTacoma Beer Week is a citywide celebration of breweries\, neighborhood bars\, and the people who move between them with curiosity and intention. Peaks & Pints’ Tacoma Beer Week Basecamp is a daily event in itself — a place to gather\, take stock\, experience the day’s featured Peaks & Pints offering\, and then decide where the rest of the night leads. \nFor this Basecamp\, Peaks & Pints will tap the new Proctor IPA from Narrows Brewing Company\, part of their Neighborhood Series and brewed in collaboration with Peaks & Pints for Tacoma Beer Week. Built on Prairie Pilsner malt\, rolled oats\, and white wheat\, the hazy IPA features Amarillo\, Vista\, Nectaron\, and Cryo Mosaic hops\, delivering bright citrus\, tropical fruit\, and soft\, pillowy texture — a beer designed to feel right at home in the Proctor District. \nProctor Prefunk also serves as the warmup to Tacoma Beer Week’s ticketed live game show “Um\, Actually” at the nearby Blue Mouse Theatre (5:30–9 p.m.)\, a fan-favorite trivia showdown where beer knowledge and quick thinking collide. Gather early at Peaks & Pints\, raise a glass with neighbors\, and then head down the block when the lights go up. \nThis Basecamp isn’t about rushing between stops. It’s about starting the night together — local beer\, local collaboration\, and a neighborhood ready to celebrate Tacoma Beer Week. \nStart here. Then play on. \nTacoma Beer Week Basecamp March 5: Narrows Proctor IPA\nThursday\, March 5\, 2026\nPeaks & Pints\nBasecamp + Neighborhood IPA: 5–7 p.m. \nLINK: Peaks & Pints beer and cider cooler inventory
URL:https://www.peaksandpints.com/event/tacoma-beer-week-basecamp-march-5-narrows-proctor-ipa/
LOCATION:Peaks and Pints\, 3816 N. 26th Street   Tacoma\, WA 98407 United States
ATTACH;FMTTYPE=image/jpeg:https://www.peaksandpints.com/wp-content/uploads/2026/02/Tacoma-Beer-Week-Basecamp-Narrows-Calendar-1.jpg
GEO:47.270797;-122.488194
END:VEVENT
BEGIN:VEVENT
DTSTART;TZID=America/Los_Angeles:20260306T170000
DTEND;TZID=America/Los_Angeles:20260306T200000
DTSTAMP:20260419T142557
CREATED:20260217T204455Z
LAST-MODIFIED:20260218T194046Z
UID:10002247-1772816400-1772827200@www.peaksandpints.com
SUMMARY:Tacoma Beer Week Basecamp March 6: Socks & Suds for Tacoma Rescue Mission
DESCRIPTION:Tacoma Beer Week Basecamp March 6: Socks & Suds for Tacoma Rescue Mission\nTacoma Beer Week Basecamp continues Friday with a simple way to give back. Bring a new pair of socks to donate to the Tacoma Rescue Mission and receive a raffle ticket for a chance to win a pair of brewery socks while supplies last. Gather with friends\, support a local cause\, and start the night with purpose before heading out into the rest of Tacoma Beer Week 2026. \nStart here. Give a little warmth.’ \nTacoma Beer Week Basecamp March 6: Socks & Suds for Tacoma Rescue MissionFriday\, March 6\, 2026Peaks & PintsBasecamp + Sock Drive: 5–8 p.m. \nLINK: Peaks and Pints beer and cider cooler inventory
URL:https://www.peaksandpints.com/event/tacoma-beer-week-basecamp-march-6-socks-suds-for-tacoma-rescue-mission/
LOCATION:Peaks and Pints\, 3816 N. 26th Street   Tacoma\, WA 98407 United States
ATTACH;FMTTYPE=image/jpeg:https://www.peaksandpints.com/wp-content/uploads/2026/02/Tacoma-Beer-Week-Basecamp-New-Socks-Calendar.jpg
GEO:47.270797;-122.488194
END:VEVENT
BEGIN:VEVENT
DTSTART;TZID=America/Los_Angeles:20260313T170000
DTEND;TZID=America/Los_Angeles:20260313T200000
DTSTAMP:20260419T142557
CREATED:20260308T193838Z
LAST-MODIFIED:20260308T194659Z
UID:10002250-1773421200-1773432000@www.peaksandpints.com
SUMMARY:Bale Breaker × Maui Brewing Frenz IPA Release Party
DESCRIPTION:Bale Breaker × Maui Brewing Frenz IPA Release Party\nFriendship has always been one of craft beer’s secret ingredients\, and Bale Breaker Brewing’s long-running Frenz Series celebrates that idea one collaboration at a time. For the newest release\, the Yakima hop-farm brewery teamed with Hawaii’s Maui Brewing Company to create a tropical IPA that bridges hop country and island flavor. \nBrewed with pilsner malt and flaked rice for a light\, crisp body\, the beer layers pineapple and guava alongside Citra\, Krush\, and Dolcita hops\, delivering bright citrus\, tropical fruit\, and easy-drinking sunshine in every pint. \nPeaks & Pints will tap the new Frenz IPA Friday\, March 13\, alongside additional beers from Bale Breaker and Maui Brewing for a special cross-Pacific tap takeover. Stop in\, grab a pint\, and celebrate the kind of brewing friendship that starts in Yakima hop fields and ends somewhere near a Hawaiian beach. \nBale Breaker × Maui Brewing Frenz Release Party\nFriday\, March 13\, 5-8 p.m.\, no cover\nPeaks & Pints\, Proctor District\, Tacoma \nLINK: Peaks & Pints beer and cider cooler inventory
URL:https://www.peaksandpints.com/event/bale-breaker-x-maui-brewing-frenz-ipa-release-party/
LOCATION:Peaks and Pints\, 3816 N. 26th Street   Tacoma\, WA 98407 United States
ATTACH;FMTTYPE=image/jpeg:https://www.peaksandpints.com/wp-content/uploads/2026/03/Bale-Breaker-Maui-Frenz-Tacoma.jpg
GEO:47.270797;-122.488194
END:VEVENT
END:VCALENDAR