BEGIN:VCALENDAR
VERSION:2.0
PRODID:-//Peaks and Pints Proctor Tacoma - ECPv6.15.15//NONSGML v1.0//EN
CALSCALE:GREGORIAN
METHOD:PUBLISH
X-ORIGINAL-URL:https://www.peaksandpints.com
X-WR-CALDESC:Events for Peaks and Pints Proctor Tacoma
REFRESH-INTERVAL;VALUE=DURATION:PT1H
X-Robots-Tag:noindex
X-PUBLISHED-TTL:PT1H
BEGIN:VTIMEZONE
TZID:America/Los_Angeles
BEGIN:DAYLIGHT
TZOFFSETFROM:-0800
TZOFFSETTO:-0700
TZNAME:PDT
DTSTART:20160313T100000
END:DAYLIGHT
BEGIN:STANDARD
TZOFFSETFROM:-0700
TZOFFSETTO:-0800
TZNAME:PST
DTSTART:20161106T090000
END:STANDARD
BEGIN:DAYLIGHT
TZOFFSETFROM:-0800
TZOFFSETTO:-0700
TZNAME:PDT
DTSTART:20170312T100000
END:DAYLIGHT
BEGIN:STANDARD
TZOFFSETFROM:-0700
TZOFFSETTO:-0800
TZNAME:PST
DTSTART:20171105T090000
END:STANDARD
BEGIN:DAYLIGHT
TZOFFSETFROM:-0800
TZOFFSETTO:-0700
TZNAME:PDT
DTSTART:20180311T100000
END:DAYLIGHT
BEGIN:STANDARD
TZOFFSETFROM:-0700
TZOFFSETTO:-0800
TZNAME:PST
DTSTART:20181104T090000
END:STANDARD
BEGIN:DAYLIGHT
TZOFFSETFROM:-0800
TZOFFSETTO:-0700
TZNAME:PDT
DTSTART:20190310T100000
END:DAYLIGHT
BEGIN:STANDARD
TZOFFSETFROM:-0700
TZOFFSETTO:-0800
TZNAME:PST
DTSTART:20191103T090000
END:STANDARD
END:VTIMEZONE
BEGIN:VTIMEZONE
TZID:America/Los_Angeles
BEGIN:DAYLIGHT
TZOFFSETFROM:-0800
TZOFFSETTO:-0700
TZNAME:PDT
DTSTART:20180311T100000
END:DAYLIGHT
BEGIN:STANDARD
TZOFFSETFROM:-0700
TZOFFSETTO:-0800
TZNAME:PST
DTSTART:20181104T090000
END:STANDARD
BEGIN:DAYLIGHT
TZOFFSETFROM:-0800
TZOFFSETTO:-0700
TZNAME:PDT
DTSTART:20190310T100000
END:DAYLIGHT
BEGIN:STANDARD
TZOFFSETFROM:-0700
TZOFFSETTO:-0800
TZNAME:PST
DTSTART:20191103T090000
END:STANDARD
BEGIN:DAYLIGHT
TZOFFSETFROM:-0800
TZOFFSETTO:-0700
TZNAME:PDT
DTSTART:20200308T100000
END:DAYLIGHT
BEGIN:STANDARD
TZOFFSETFROM:-0700
TZOFFSETTO:-0800
TZNAME:PST
DTSTART:20201101T090000
END:STANDARD
BEGIN:DAYLIGHT
TZOFFSETFROM:-0800
TZOFFSETTO:-0700
TZNAME:PDT
DTSTART:20210314T100000
END:DAYLIGHT
BEGIN:STANDARD
TZOFFSETFROM:-0700
TZOFFSETTO:-0800
TZNAME:PST
DTSTART:20211107T090000
END:STANDARD
BEGIN:DAYLIGHT
TZOFFSETFROM:-0800
TZOFFSETTO:-0700
TZNAME:PDT
DTSTART:20220313T100000
END:DAYLIGHT
BEGIN:STANDARD
TZOFFSETFROM:-0700
TZOFFSETTO:-0800
TZNAME:PST
DTSTART:20221106T090000
END:STANDARD
BEGIN:DAYLIGHT
TZOFFSETFROM:-0800
TZOFFSETTO:-0700
TZNAME:PDT
DTSTART:20230312T100000
END:DAYLIGHT
BEGIN:STANDARD
TZOFFSETFROM:-0700
TZOFFSETTO:-0800
TZNAME:PST
DTSTART:20231105T090000
END:STANDARD
END:VTIMEZONE
BEGIN:VEVENT
DTSTART;TZID=America/Los_Angeles:20171124T100000
DTEND;TZID=America/Los_Angeles:20171124T230000
DTSTAMP:20260423T151107
CREATED:20171121T014825Z
LAST-MODIFIED:20171121T014825Z
UID:10001053-1511517600-1511564400@www.peaksandpints.com
SUMMARY:Black Friday Barrel Beer Bonanza
DESCRIPTION:How to make Black Friday shopping tolerable? Beer! The highly awaited boozy and velvety mouthfeel Goose Island Bourbon County Stout is having its yearly Black Friday limited release at Peaks and Pints. \nPeaks and Pints will open an hour earlier at 10 a.m. Friday\, Nov. 24 for this year’s allotment of Goose Island Bourbon County Stout variants\, enjoying some on tap — as well as other dark\, delicious barrel-aged delights — plus releasing bottles of classic BCBS\, BCBS Barleywine\, Coffee BCBS and BCBS Northwoods with blueberry and almond on a first come basis with limits per person. \nIn addition to Classic BCBS and Northwoods\, we’ll tap some of our most coveted and celebrated stouts and barrel-aged beers throughout the day\, such as Fremont Bourbon Barrel Aged Dark Star Coffee\, Avery Tweak Imperial Stout 2016\, Avery The Czar Russian Imperial Stout 2016\, Deschutes Abyss 2016\, Fortside Barrel-Fied 2016 Imperial Stout and many others. \nSkip wading through herds of people outside the mall and enjoy beasts of the barrel at Peaks and Pints. \nBLACK FRIDAY BARREL BEER BONANZA\, 10 a.m. to 11 p.m. Friday\, Nov. 24\, Peaks and Pints\, 3816 N. 26th St.\, Tacoma\, no cover
URL:https://www.peaksandpints.com/event/black-friday-barrel-beer-bonanza/
LOCATION:Peaks and Pints\, 3816 N 26th St\, Tacoma\, WA 98407\, USA
ATTACH;FMTTYPE=image/jpeg:https://www.peaksandpints.com/wp-content/uploads/2017/11/Black-Friday-Barrel-Beer-Bonanza-Calendar.jpg
GEO:47.270797;-122.488194
END:VEVENT
BEGIN:VEVENT
DTSTART;TZID=America/Los_Angeles:20181123T100000
DTEND;TZID=America/Los_Angeles:20181123T230000
DTSTAMP:20260423T151107
CREATED:20181119T214107Z
LAST-MODIFIED:20181119T214133Z
UID:10001213-1542967200-1543014000@www.peaksandpints.com
SUMMARY:Peaks and Pints Black Friday Barrel Beer Bonanza
DESCRIPTION:Peaks and Pints Black Friday Barrel Beer Bonanza\nHow to make Black Friday shopping tolerable? Beer! The highly awaited boozy and velvety mouthfeel Goose Island Bourbon County Brand Stout is having its yearly Black Friday limited release at Peaks and Pints. \nPeaks and Pints will open an hour earlier at 10 a.m. Friday\, Nov. 23 for this year’s allotment of Goose Island Bourbon County Stout variants\, enjoying some on tap — as well as other dark\, delicious barrel-aged delights — plus bottles of classic BCBS\, BCBS Barleywine\, BCBS Wheatwine\, BCBS Bramble Rye\, BCBS Midnight Orange and BCBS Vanilla on a first come basis with limits per person. \nIn addition to Classic BCBS\, BCBS Bramble Rye and BCBS Midnight Orange\, we’ll tap some of our most coveted and celebrated stouts and barrel-aged beers throughout the day\, such as Fremont Brewing Bourbon Barrel Aged Dark Star Coffee\, Deschutes 2018 The Abyss\, Modern Times Devil’s Teeth Bourbon Barrel\, Avery Raspberry Truffale\, Prairie Paradise\, Fort George 1000 Years of Silence\, Great Divide Barrel-Aged Yeti Imperial Stout and many others. \nSkip wading through herds of people outside the mall and enjoy beasts of the barrel at Peaks and Pints. \nPEAKS AND PINTS BLACK FRIDAY BARREL BEER BONANZA\, 10 a.m. to 11 p.m. Friday\, Nov. 23\, Peaks and Pints\, 3816 N. 26th St.\, Tacoma\, no cover
URL:https://www.peaksandpints.com/event/peaks-and-pints-black-friday-barrel-beer-bonanza/
LOCATION:Peaks and Pints\, 3816 N. 26th Street   Tacoma\, WA 98407 United States
ATTACH;FMTTYPE=image/jpeg:https://www.peaksandpints.com/wp-content/uploads/2018/11/Peaks-and-Pints-Black-Friday-Barrel-Beer-Bonanza-Calendar.jpg
GEO:47.270797;-122.488194
END:VEVENT
BEGIN:VEVENT
DTSTART;VALUE=DATE:20191125
DTEND;VALUE=DATE:20191126
DTSTAMP:20260423T151107
CREATED:20191125T041914Z
LAST-MODIFIED:20191125T185606Z
UID:10001375-1574640000-1574726399@www.peaksandpints.com
SUMMARY:Peaks and Pints Dark Side of Thanksgiving
DESCRIPTION:Peaks and Pints Dark Side of Thanksgiving\nDarkness descends on Peaks and Pints during Thanksgiving week\, and it promises to be an eventful week with at scarce and salient selections from the dark side. \nStarting at 11 a.m. Monday\, Nov. 25 and running through 11 p.m. Friday\, Nov. 29\, some of the elusive elixirs that will course their ways through Peaks & Pints draft lines including 2018 Oskar Blues Bourbon Barrel-Aged Ten Fidy\, 2018 Backwoods The Stumbler\, Goose Island Bourbon County 2019\, Ecliptic Bourbon Barrel Sedna Tiramisu Stout\, Prairie Paradise\, 2017 Fremont Bourbon Barrel Aged Dark Star\, 2018 Anderson Valley Huge Arker\, Fremont Brew 3000 and many more. \nPeaks and Pints will be really be dark Thanksgiving Day as we’ll be closed. \nIn addition to the imperial stout drafts\, as well as daily stout flights\, Peaks and Pints will invade our cellar for such delights as Deschutes 2016 The Abyss\, Fremont 2017 B-Bomb\, Fremont 2018 Bourbon Barrel Aged Dark Star Coffee\, Goose Island 2018 Bourbon County Brand Stout\, North Coast Old Rasputin XXI and many others. \nThere is no admission for this event\, and all Dark Side of Thanksgiving ales will be priced individually by the glass or 5 oz. tasting pours in the flight. Bottle sales are priced to go with a corkage fee to enjoy in our lodge. \nPEAKS AND PINTS DARK SIDE OF THANKSGIVING\, 11 a.m. to 11 p.m. Monday\, Nov. 25-Friday\, Nov. 29\, closed Thanksgiving\, Peaks and Pints\, 3816 N. 26th St.\, Basecamp Proctor\, Tacoma\, no cover
URL:https://www.peaksandpints.com/event/peaks-and-pints-dark-side-of-thanksgiving/2019-11-25/
LOCATION:Peaks and Pints\, 3816 N. 26th Street   Tacoma\, WA 98407 United States
ATTACH;FMTTYPE=image/jpeg:https://www.peaksandpints.com/wp-content/uploads/2019/11/Peaks-and-Pints-Dark-Side-of-Thanksgiving-Calendar.jpg
GEO:47.270797;-122.488194
END:VEVENT
BEGIN:VEVENT
DTSTART;VALUE=DATE:20191126
DTEND;VALUE=DATE:20191127
DTSTAMP:20260423T151107
CREATED:20191125T041914Z
LAST-MODIFIED:20191125T185606Z
UID:10001376-1574726400-1574812799@www.peaksandpints.com
SUMMARY:Peaks and Pints Dark Side of Thanksgiving
DESCRIPTION:Peaks and Pints Dark Side of Thanksgiving\nDarkness descends on Peaks and Pints during Thanksgiving week\, and it promises to be an eventful week with at scarce and salient selections from the dark side. \nStarting at 11 a.m. Monday\, Nov. 25 and running through 11 p.m. Friday\, Nov. 29\, some of the elusive elixirs that will course their ways through Peaks & Pints draft lines including 2018 Oskar Blues Bourbon Barrel-Aged Ten Fidy\, 2018 Backwoods The Stumbler\, Goose Island Bourbon County 2019\, Ecliptic Bourbon Barrel Sedna Tiramisu Stout\, Prairie Paradise\, 2017 Fremont Bourbon Barrel Aged Dark Star\, 2018 Anderson Valley Huge Arker\, Fremont Brew 3000 and many more. \nPeaks and Pints will be really be dark Thanksgiving Day as we’ll be closed. \nIn addition to the imperial stout drafts\, as well as daily stout flights\, Peaks and Pints will invade our cellar for such delights as Deschutes 2016 The Abyss\, Fremont 2017 B-Bomb\, Fremont 2018 Bourbon Barrel Aged Dark Star Coffee\, Goose Island 2018 Bourbon County Brand Stout\, North Coast Old Rasputin XXI and many others. \nThere is no admission for this event\, and all Dark Side of Thanksgiving ales will be priced individually by the glass or 5 oz. tasting pours in the flight. Bottle sales are priced to go with a corkage fee to enjoy in our lodge. \nPEAKS AND PINTS DARK SIDE OF THANKSGIVING\, 11 a.m. to 11 p.m. Monday\, Nov. 25-Friday\, Nov. 29\, closed Thanksgiving\, Peaks and Pints\, 3816 N. 26th St.\, Basecamp Proctor\, Tacoma\, no cover
URL:https://www.peaksandpints.com/event/peaks-and-pints-dark-side-of-thanksgiving/2019-11-26/
LOCATION:Peaks and Pints\, 3816 N. 26th Street   Tacoma\, WA 98407 United States
ATTACH;FMTTYPE=image/jpeg:https://www.peaksandpints.com/wp-content/uploads/2019/11/Peaks-and-Pints-Dark-Side-of-Thanksgiving-Calendar.jpg
GEO:47.270797;-122.488194
END:VEVENT
BEGIN:VEVENT
DTSTART;VALUE=DATE:20191127
DTEND;VALUE=DATE:20191128
DTSTAMP:20260423T151107
CREATED:20191125T041914Z
LAST-MODIFIED:20191125T185606Z
UID:10001377-1574812800-1574899199@www.peaksandpints.com
SUMMARY:Peaks and Pints Dark Side of Thanksgiving
DESCRIPTION:Peaks and Pints Dark Side of Thanksgiving\nDarkness descends on Peaks and Pints during Thanksgiving week\, and it promises to be an eventful week with at scarce and salient selections from the dark side. \nStarting at 11 a.m. Monday\, Nov. 25 and running through 11 p.m. Friday\, Nov. 29\, some of the elusive elixirs that will course their ways through Peaks & Pints draft lines including 2018 Oskar Blues Bourbon Barrel-Aged Ten Fidy\, 2018 Backwoods The Stumbler\, Goose Island Bourbon County 2019\, Ecliptic Bourbon Barrel Sedna Tiramisu Stout\, Prairie Paradise\, 2017 Fremont Bourbon Barrel Aged Dark Star\, 2018 Anderson Valley Huge Arker\, Fremont Brew 3000 and many more. \nPeaks and Pints will be really be dark Thanksgiving Day as we’ll be closed. \nIn addition to the imperial stout drafts\, as well as daily stout flights\, Peaks and Pints will invade our cellar for such delights as Deschutes 2016 The Abyss\, Fremont 2017 B-Bomb\, Fremont 2018 Bourbon Barrel Aged Dark Star Coffee\, Goose Island 2018 Bourbon County Brand Stout\, North Coast Old Rasputin XXI and many others. \nThere is no admission for this event\, and all Dark Side of Thanksgiving ales will be priced individually by the glass or 5 oz. tasting pours in the flight. Bottle sales are priced to go with a corkage fee to enjoy in our lodge. \nPEAKS AND PINTS DARK SIDE OF THANKSGIVING\, 11 a.m. to 11 p.m. Monday\, Nov. 25-Friday\, Nov. 29\, closed Thanksgiving\, Peaks and Pints\, 3816 N. 26th St.\, Basecamp Proctor\, Tacoma\, no cover
URL:https://www.peaksandpints.com/event/peaks-and-pints-dark-side-of-thanksgiving/2019-11-27/
LOCATION:Peaks and Pints\, 3816 N. 26th Street   Tacoma\, WA 98407 United States
ATTACH;FMTTYPE=image/jpeg:https://www.peaksandpints.com/wp-content/uploads/2019/11/Peaks-and-Pints-Dark-Side-of-Thanksgiving-Calendar.jpg
GEO:47.270797;-122.488194
END:VEVENT
BEGIN:VEVENT
DTSTART;VALUE=DATE:20191129
DTEND;VALUE=DATE:20191130
DTSTAMP:20260423T151107
CREATED:20191125T041914Z
LAST-MODIFIED:20191125T185606Z
UID:10001378-1574985600-1575071999@www.peaksandpints.com
SUMMARY:Peaks and Pints Dark Side of Thanksgiving
DESCRIPTION:Peaks and Pints Dark Side of Thanksgiving\nDarkness descends on Peaks and Pints during Thanksgiving week\, and it promises to be an eventful week with at scarce and salient selections from the dark side. \nStarting at 11 a.m. Monday\, Nov. 25 and running through 11 p.m. Friday\, Nov. 29\, some of the elusive elixirs that will course their ways through Peaks & Pints draft lines including 2018 Oskar Blues Bourbon Barrel-Aged Ten Fidy\, 2018 Backwoods The Stumbler\, Goose Island Bourbon County 2019\, Ecliptic Bourbon Barrel Sedna Tiramisu Stout\, Prairie Paradise\, 2017 Fremont Bourbon Barrel Aged Dark Star\, 2018 Anderson Valley Huge Arker\, Fremont Brew 3000 and many more. \nPeaks and Pints will be really be dark Thanksgiving Day as we’ll be closed. \nIn addition to the imperial stout drafts\, as well as daily stout flights\, Peaks and Pints will invade our cellar for such delights as Deschutes 2016 The Abyss\, Fremont 2017 B-Bomb\, Fremont 2018 Bourbon Barrel Aged Dark Star Coffee\, Goose Island 2018 Bourbon County Brand Stout\, North Coast Old Rasputin XXI and many others. \nThere is no admission for this event\, and all Dark Side of Thanksgiving ales will be priced individually by the glass or 5 oz. tasting pours in the flight. Bottle sales are priced to go with a corkage fee to enjoy in our lodge. \nPEAKS AND PINTS DARK SIDE OF THANKSGIVING\, 11 a.m. to 11 p.m. Monday\, Nov. 25-Friday\, Nov. 29\, closed Thanksgiving\, Peaks and Pints\, 3816 N. 26th St.\, Basecamp Proctor\, Tacoma\, no cover
URL:https://www.peaksandpints.com/event/peaks-and-pints-dark-side-of-thanksgiving/2019-11-29/
LOCATION:Peaks and Pints\, 3816 N. 26th Street   Tacoma\, WA 98407 United States
ATTACH;FMTTYPE=image/jpeg:https://www.peaksandpints.com/wp-content/uploads/2019/11/Peaks-and-Pints-Dark-Side-of-Thanksgiving-Calendar.jpg
GEO:47.270797;-122.488194
END:VEVENT
BEGIN:VEVENT
DTSTART;VALUE=DATE:20221121
DTEND;VALUE=DATE:20221126
DTSTAMP:20260423T151107
CREATED:20221118T035346Z
LAST-MODIFIED:20221118T035346Z
UID:10001601-1668988800-1669420799@www.peaksandpints.com
SUMMARY:Peaks and Pints Darkwave 2022
DESCRIPTION:Peaks and Pints Darkwave 2022\nTacoma’s Proctor District projects a darkwave will take control of Peaks & Pints craft beer and cider lodge\, bottle shop and restaurant during Thanksgiving week. \nStarting at 11 a.m. Monday\, Nov. 21 and running through 11 p.m. Friday\, Nov. 25\, some of the elusive elixirs that will course their way through Peaks & Pints draft lines include Great Notion Double Stack\, Pohjala Cocobanger\, Goose Island Bourbon County 2021 and 2022\, AleSmith Minister of State\, AleSmith Vietnamese Speedway Stout\, Firestone Walker Orange Bitter Parabola\, and many others. \nPeaks and Pints will be really dark Thanksgiving Day as we’ll be closed. \nThere is no admission for this event\, and all Darkwave ales will be priced individually by the glass. Bottle sales are priced to go with a corkage fee to enjoy in our lodge. \nPEAKS AND PINTS DARKWAVE\, 11 a.m. to 11 p.m. Monday\, Nov. 21-Friday\, Nov. 25\, closed Thanksgiving\, Peaks and Pints\, 3816 N. 26th St.\, Basecamp Proctor\, Tacoma\, no cover
URL:https://www.peaksandpints.com/event/peaks-and-pints-darkwave-2022/
LOCATION:Peaks and Pints\, 3816 N. 26th Street   Tacoma\, WA 98407 United States
ATTACH;FMTTYPE=image/jpeg:https://www.peaksandpints.com/wp-content/uploads/2022/11/Peaks-and-Pints-Darkwave-2022-Calendar.jpg
GEO:47.270797;-122.488194
END:VEVENT
END:VCALENDAR