BEGIN:VCALENDAR
VERSION:2.0
PRODID:-//Peaks and Pints Proctor Tacoma - ECPv6.15.15//NONSGML v1.0//EN
CALSCALE:GREGORIAN
METHOD:PUBLISH
X-WR-CALNAME:Peaks and Pints Proctor Tacoma
X-ORIGINAL-URL:https://www.peaksandpints.com
X-WR-CALDESC:Events for Peaks and Pints Proctor Tacoma
REFRESH-INTERVAL;VALUE=DURATION:PT1H
X-Robots-Tag:noindex
X-PUBLISHED-TTL:PT1H
BEGIN:VTIMEZONE
TZID:America/Los_Angeles
BEGIN:DAYLIGHT
TZOFFSETFROM:-0800
TZOFFSETTO:-0700
TZNAME:PDT
DTSTART:20190310T100000
END:DAYLIGHT
BEGIN:STANDARD
TZOFFSETFROM:-0700
TZOFFSETTO:-0800
TZNAME:PST
DTSTART:20191103T090000
END:STANDARD
BEGIN:DAYLIGHT
TZOFFSETFROM:-0800
TZOFFSETTO:-0700
TZNAME:PDT
DTSTART:20200308T100000
END:DAYLIGHT
BEGIN:STANDARD
TZOFFSETFROM:-0700
TZOFFSETTO:-0800
TZNAME:PST
DTSTART:20201101T090000
END:STANDARD
BEGIN:DAYLIGHT
TZOFFSETFROM:-0800
TZOFFSETTO:-0700
TZNAME:PDT
DTSTART:20210314T100000
END:DAYLIGHT
BEGIN:STANDARD
TZOFFSETFROM:-0700
TZOFFSETTO:-0800
TZNAME:PST
DTSTART:20211107T090000
END:STANDARD
BEGIN:DAYLIGHT
TZOFFSETFROM:-0800
TZOFFSETTO:-0700
TZNAME:PDT
DTSTART:20220313T100000
END:DAYLIGHT
BEGIN:STANDARD
TZOFFSETFROM:-0700
TZOFFSETTO:-0800
TZNAME:PST
DTSTART:20221106T090000
END:STANDARD
BEGIN:DAYLIGHT
TZOFFSETFROM:-0800
TZOFFSETTO:-0700
TZNAME:PDT
DTSTART:20230312T100000
END:DAYLIGHT
BEGIN:STANDARD
TZOFFSETFROM:-0700
TZOFFSETTO:-0800
TZNAME:PST
DTSTART:20231105T090000
END:STANDARD
BEGIN:DAYLIGHT
TZOFFSETFROM:-0800
TZOFFSETTO:-0700
TZNAME:PDT
DTSTART:20240310T100000
END:DAYLIGHT
BEGIN:STANDARD
TZOFFSETFROM:-0700
TZOFFSETTO:-0800
TZNAME:PST
DTSTART:20241103T090000
END:STANDARD
BEGIN:DAYLIGHT
TZOFFSETFROM:-0800
TZOFFSETTO:-0700
TZNAME:PDT
DTSTART:20250309T100000
END:DAYLIGHT
BEGIN:STANDARD
TZOFFSETFROM:-0700
TZOFFSETTO:-0800
TZNAME:PST
DTSTART:20251102T090000
END:STANDARD
BEGIN:DAYLIGHT
TZOFFSETFROM:-0800
TZOFFSETTO:-0700
TZNAME:PDT
DTSTART:20260308T100000
END:DAYLIGHT
BEGIN:STANDARD
TZOFFSETFROM:-0700
TZOFFSETTO:-0800
TZNAME:PST
DTSTART:20261101T090000
END:STANDARD
END:VTIMEZONE
BEGIN:VTIMEZONE
TZID:America/Los_Angeles
BEGIN:DAYLIGHT
TZOFFSETFROM:-0800
TZOFFSETTO:-0700
TZNAME:PDT
DTSTART:20180311T100000
END:DAYLIGHT
BEGIN:STANDARD
TZOFFSETFROM:-0700
TZOFFSETTO:-0800
TZNAME:PST
DTSTART:20181104T090000
END:STANDARD
BEGIN:DAYLIGHT
TZOFFSETFROM:-0800
TZOFFSETTO:-0700
TZNAME:PDT
DTSTART:20190310T100000
END:DAYLIGHT
BEGIN:STANDARD
TZOFFSETFROM:-0700
TZOFFSETTO:-0800
TZNAME:PST
DTSTART:20191103T090000
END:STANDARD
BEGIN:DAYLIGHT
TZOFFSETFROM:-0800
TZOFFSETTO:-0700
TZNAME:PDT
DTSTART:20200308T100000
END:DAYLIGHT
BEGIN:STANDARD
TZOFFSETFROM:-0700
TZOFFSETTO:-0800
TZNAME:PST
DTSTART:20201101T090000
END:STANDARD
END:VTIMEZONE
BEGIN:VEVENT
DTSTART;TZID=America/Los_Angeles:20250521T170000
DTEND;TZID=America/Los_Angeles:20250521T200000
DTSTAMP:20260419T110955
CREATED:20250515T144327Z
LAST-MODIFIED:20250515T144327Z
UID:10001794-1747846800-1747857600@www.peaksandpints.com
SUMMARY:Fort George 2025 3-Way IPA Release Party
DESCRIPTION:Fort George 2025 3-Way IPA Release Party\nSummer is an exciting time for beer nerds. Regionally\, the season is met with the release of Fort George Brewery‘s (Astoria\, Ore.) 3-Way IPA. The hoppy beer is an annual collaboration — in its 13th year — with two other West Coast breweries. Sunriver Brewing (Sunriver\, Ore.) and Mirage Beer (Seattle\, Wash.) join this year’s brew. Join Peaks & Pints for the Official Tacoma 3-Way IPA Release at 5 p.m. Wednesday\, May 21. We will have 3-Way and other Fort George beers\, plus several from Mirage\, on tap. Fort George Sale Executive Kyle Vormestrand will be in-house sampling and handing out swag from 5-8 p.m. \nTHE STORY \nFort George’s 3-Way IPA has become a signal to the start of summer. Once a year\, Fort George extends an invitation to two breweries\, chosen for their mastery in the art of IPAs. The goal is to come together\, exchange knowledge\, forge lasting friendships\, and create an IPA that everyone is excited to drink along the way. That collaboration is then brewed\, packed into a brilliant new 16-ounce can\, and sent out for the pure enjoyment of the Pacific Northwest. \nThe three breweries start by brainstorming beer sessions in the fall\, brewing Beta IPAs\, blind tastings\, lab tests\, aroma analysis\, color checks\, and long conversations until it’s perfect\, and then putting the newly minted star on stage. The result is like a fine-tuned bluegrass trio on washtub bass\, washboard\, and flute. The line-up changes yearly\, and no two 3-Way IPA collaborations are the same. \nThis year\, Mirage\, Sunriver Brewing\, and Fort George embark on an incredible journey — scaling the cliffs of flavor\, fording rivers of hops\, and crossing fragrant meadows of delicious malt to bring home the perfect West Coast IPA. Brewed with Krush (formerly HBC 586)\, Waimea\, and Nelson hops\, 2025’s 3-Way IPA is a summer beer for summer. This year’s 3-Way artwork is by amateur pet specialist Patrick Long from Portland. \nSee you at Peaks Wednesday with all the swag and such. Cheers! \nFORT GEORGE 2025 3-WAY IPA RELEASE PARTY\, 5-8 p.m.\, Wednesday\, May 21\, Peaks & Pints\, 3816 N. 26th St.\, Basecamp Proctor\, Tacoma\, no cover \nLINK: Peaks & Pints beer and cider cooler inventory
URL:https://www.peaksandpints.com/event/fort-george-2025-3-way-ipa-release-party/
LOCATION:Peaks and Pints\, 3816 N. 26th Street   Tacoma\, WA 98407 United States
ATTACH;FMTTYPE=image/jpeg:https://www.peaksandpints.com/wp-content/uploads/2025/05/Fort-George-2025-3-Way-IPA-calendar.jpg
GEO:47.270797;-122.488194
END:VEVENT
BEGIN:VEVENT
DTSTART;TZID=America/Los_Angeles:20230609T170000
DTEND;TZID=America/Los_Angeles:20230609T190000
DTSTAMP:20260419T110955
CREATED:20230607T012103Z
LAST-MODIFIED:20230607T012103Z
UID:10001650-1686330000-1686337200@www.peaksandpints.com
SUMMARY:Fort George 2023 3-Way IPA Version 2 Release Party
DESCRIPTION:Fort George 2023 3-Way IPA Version 2 Release Party\n“It’s not a Kölsch\,” says Fort George Brewery in an Arnold Schwarzenegger voice from the movie\, Kindergarten Cop\, which was filmed in Fort George’s hometown of Astoria\, Oregon. We’ll be back to address that statement. … \nPeaks & Pints will host a release party for Fort George’s second 2023 3-Way IPA release Friday\, June 9. This year\, Fort George offers three unique versions\, each brewed with a distinct yeast. The first version brewed with London Tropics yeast from Berkeley Yeast in green cans landed at Peaks May 20\, the same day the brewery hosted their annual 3-Way release party\, Lupulin Ecstasy Festival. The second version\, brewed with Kölsch yeast (Kaiser German Ale yeast from Imperial Yeast) in purple-ish cans\, will hit Peaks’ Western red cedar tap log Friday for the release party. The final version brewed with Hazy Chico DF yeast from Berkeley Yeast will arrive later this month. Again\, the 3-Way Version 2 is a West Coast style IPA brewed with Kölsch yeast. \nFort George has brewed 3-Way IPA since 2013\, featuring two different craft brewery collaborators every year. This year\, Anchorage Brewing from Anchorage\, Alaska\, and Cellarmaker Brewing from San Francisco\, California\, shared ideas and techniques with Fort George founder Chris Nemlowill\, and after many beta test batches\, blind tastings\, lab tests\, aroma analysis\, color checks\, and long conversations. \nThis Friday\, June 9\, Peaks & Pints will tap Fort George’s first and second 3-Way IPA versions\, plus Beta 33 (FOCUS\, a fall seasonal IPA featuring hops from Crosby Hop Farms)\, Cathedral tree Pilsner\, Spruce Budd Ale\, City of Dreams Pale\, Java The Hop Coffee IPA\, Fancy Raygun IPA\, Barrel-Aged Barleywine\, and Cavatica Imperial Stout. \n“Rubber baby buggy bumpers. Ha! You didn’t know I was going to say that!” Hey Fort George! That’s a Schwarzenegger quote from Last Action Hero\, not filmed in Astoria. \n“It’s turbo time.” \nNever mind. See you at Peaks Friday with all your swag and such. Cheers! \nFORT GEORGE 2023 3-WAY IPA VERSION 2 RELEASE PARTY\, 5-7 p.m.\, Friday\, June 9\, Peaks & Pints\, 3816 N. 26th St.\, Basecamp Proctor\, Tacoma\, no cover \nLINK: Peaks & Pints cooler inventory
URL:https://www.peaksandpints.com/event/fort-george-2023-3-way-ipa-version-2-release-party/
LOCATION:Peaks and Pints\, 3816 N. 26th Street   Tacoma\, WA 98407 United States
ATTACH;FMTTYPE=image/jpeg:https://www.peaksandpints.com/wp-content/uploads/2023/06/Fort-George-2023-3-Way-IPA-V2-Calendar.jpg
GEO:47.270797;-122.488194
END:VEVENT
BEGIN:VEVENT
DTSTART;TZID=America/Los_Angeles:20200626T110000
DTEND;TZID=America/Los_Angeles:20200626T200000
DTSTAMP:20260419T110955
CREATED:20200625T201234Z
LAST-MODIFIED:20200625T201234Z
UID:10001456-1593169200-1593201600@www.peaksandpints.com
SUMMARY:3-Way\, 2 Ways\, Your Way Friday
DESCRIPTION:3-Way\, 2 Ways\, Your Way Friday\nJoin Peaks & Pints and Rainier Growlers Friday\, June 26 as the two craft beer bars tap Fort George Brewery’s 3-Way IPA\, as well as draft from Structures Brewing and Level Beer. The Tacoma Proctor District and South Hill Puyallup bottle shops will also have very limited 3-Way cans. \nAstoria’s Fort George Brewery has brewed 3-Way IPA since 2013\, featuring two different craft brewery collaborators every year. This year\, Bellingham’s Structures Brewing and Portland’s Level Beer Co. shared ideas and techniques with Chris Nemlowill of Fort George\, and after a few beta batches — the final 2020 Fort George 3-Way IPA hits the South Sound Friday. Peaks & Pints and Rainier Growlers grabbed early tastes and we’re happy to report its one of the best 3-Ways yet. Built on a foundation of Pilsner malt\, spelt\, and flaked oats\, plus dry hopped with ridiculous levels of Simcoe\, Azacca\, Citra\, and Chinook hops\, this year’s 3-Way has a hazy\, fruity nose\, followed by crisp\, smooth\, citrus/grassy/melon/dank flavor. \nPeaks and Rainier will have 32-ounce and 64-ounce growler fills of 3-way\, with Rainier Growlers allowing social distancing seating and Peaks still a to-go operation. The two craft beer bars will also tap Structures easy-drinking Splash Pale Ale. Rainier Growlers will tap several Level beers\, including NW Pilot IPA #2 and I’m Not A Hazy\, I Just Crush A Lot IPA. Peaks will tap Level’s NW Pilot IPA #3 and Level’s social justice collaboration Black Is Beautiful imperial stout. \nThere is no admission fee for these two events. At Rainier Growlers\, you can fill crowlers and growlers\, take home cans of all three breweries\, or drink inside at social distant tables. At Peaks\, you can fill growlers\, and take home cans of all three breweries. \nNo matter which way you do the 3-way\, it must be done with a mask. \nCheers! \nRainier Growlers\, noon to 10 p.m.\, 13105 Meridian E.\, South Hill Puyallup\, (253) 268-2284 \nPeaks & Pints\, 11 a.m. to 8 p.m.\, 3816 N. 26th St.\, basecamp Proctor\, Tacoma\, (253) 328-5621 \n 
URL:https://www.peaksandpints.com/event/3-way-2-ways-your-way-friday/
LOCATION:Peaks and Pints\, 3816 N. 26th Street   Tacoma\, WA 98407 United States
ATTACH;FMTTYPE=image/jpeg:https://www.peaksandpints.com/wp-content/uploads/2020/06/3-Way-2-Ways-Your-Way-Friday-Calendar.jpg
GEO:47.270797;-122.488194
END:VEVENT
BEGIN:VEVENT
DTSTART;TZID=America/Los_Angeles:20190620T180000
DTEND;TZID=America/Los_Angeles:20190620T220000
DTSTAMP:20260419T110955
CREATED:20190614T040226Z
LAST-MODIFIED:20190614T040226Z
UID:10001115-1561053600-1561068000@www.peaksandpints.com
SUMMARY:Fort George 3-Way IPA 2019 South Sound Release Party
DESCRIPTION:Fort George 3-Way IPA 2019 South Sound Release Party\nWhile summer days are great for lounging\, it’s the hot summer nights that will truly make memories. And nothing heats things up faster than a Fort George Brewery’s 3-Way release party. Peaks and Pints has been selected to host the Astoria brewery’s annual IPA collaboration release party for the South Sound Thursday\, June 20. How do we present such a coveted IPA to the region? Gotta have more washboard. \nTacoma’s punkgrass band The Rusty Cleavers will rattle the 3-Way pints and cans live during the release party at Peaks and Pints. \nFort George Brewery has brewed 3-Way IPA since 2013\, featuring two different craft brewery collaborators every year. This year\, Cloudburst Brewing and Ruse Brewing shared ideas and techniques with Fort George owner Chris Nemlowill\, then began releasing beta small batches in November 2018. The initial idea was to brew something in between a New England style hazy and a West Coast IPA — unfiltered with pilsner malt\, red wheat\, golden promise\, plus ample discussions about pH levels in the whirlpool and the amounts of each hop addition. Three hops were initially chosen — Cashmere\, Idaho 7\, and Citra. However\, they also hatched a plan to try out different dominant dry hops in each batch\, while also making minor adjustments to the rest of the recipe. \nYou’ll notice 3-Way IPA combines all of the fruit-forwardness of a hazy\, but with that classic touch of bitterness from a West Coast IPA as The Rusty Cleavers perform “Laundromat Boogie.” You’ll toast the band’s “Hit on Heaven” song as you enjoy the bright\, citrus fruit bomb that doesn’t finish too heavy or sweet. You’ll scream\, “THIS IPA DOESN’T HOLD BACK ON THE HOPS!” as the band launches into “Whiskey You’re the Devil.” \nBut the fun doesn’t stop there. You’ll return to Peaks and Pints down the road (The Rusty Cleavers cranking through your Airbuds) as Fort George will move past the first batches heavily dry hopped with Citra (notes of orange juice\, grapefruit zest\, and bitter lemon peel) and beginning release new batches with supporting hops taking a starring dry-hop role. And you’ll be able to see which hop is dominant by checking the bottom of your can. \nThat’s all fine and dandy\, but we’re focused on providing you a night you’ll remember with Fort George 3-Way on draft and in cans\, and a few surprises on draft\, beginning at 6 p.m. Thursday\, June 20. \nCheers! \nFORT GEORGE 3-WAY IPA 2019 SOUTH SOUND RELEASE PARTY\, 6 p.m.\, band at 7:30 p.m.\, Thursday\, June 20\, Peaks and Pints\, 3816 N. 26th St.\, Basecamp Proctor\, Tacoma\, no cover
URL:https://www.peaksandpints.com/event/fort-george-3-way-ipa-2019-south-sound-release-party/
LOCATION:Peaks and Pints\, 3816 N. 26th Street   Tacoma\, WA 98407 United States
ATTACH;FMTTYPE=image/jpeg:https://www.peaksandpints.com/wp-content/uploads/2019/06/Fort-George-3-Way-IPA-2019-South-Sound-Release-Party-calendar.jpg
GEO:47.270797;-122.488194
END:VEVENT
END:VCALENDAR