BEGIN:VCALENDAR
VERSION:2.0
PRODID:-//Peaks and Pints Proctor Tacoma - ECPv6.15.15//NONSGML v1.0//EN
CALSCALE:GREGORIAN
METHOD:PUBLISH
X-WR-CALNAME:Peaks and Pints Proctor Tacoma
X-ORIGINAL-URL:https://www.peaksandpints.com
X-WR-CALDESC:Events for Peaks and Pints Proctor Tacoma
REFRESH-INTERVAL;VALUE=DURATION:PT1H
X-Robots-Tag:noindex
X-PUBLISHED-TTL:PT1H
BEGIN:VTIMEZONE
TZID:America/Los_Angeles
BEGIN:DAYLIGHT
TZOFFSETFROM:-0800
TZOFFSETTO:-0700
TZNAME:PDT
DTSTART:20220313T100000
END:DAYLIGHT
BEGIN:STANDARD
TZOFFSETFROM:-0700
TZOFFSETTO:-0800
TZNAME:PST
DTSTART:20221106T090000
END:STANDARD
BEGIN:DAYLIGHT
TZOFFSETFROM:-0800
TZOFFSETTO:-0700
TZNAME:PDT
DTSTART:20230312T100000
END:DAYLIGHT
BEGIN:STANDARD
TZOFFSETFROM:-0700
TZOFFSETTO:-0800
TZNAME:PST
DTSTART:20231105T090000
END:STANDARD
BEGIN:DAYLIGHT
TZOFFSETFROM:-0800
TZOFFSETTO:-0700
TZNAME:PDT
DTSTART:20240310T100000
END:DAYLIGHT
BEGIN:STANDARD
TZOFFSETFROM:-0700
TZOFFSETTO:-0800
TZNAME:PST
DTSTART:20241103T090000
END:STANDARD
END:VTIMEZONE
BEGIN:VEVENT
DTSTART;TZID=America/Los_Angeles:20231101T180000
DTEND;TZID=America/Los_Angeles:20231101T220000
DTSTAMP:20260423T125159
CREATED:20231026T163338Z
LAST-MODIFIED:20231026T163338Z
UID:10001348-1698861600-1698876000@www.peaksandpints.com
SUMMARY:Peaks and Pints Seventh Anniversary Party
DESCRIPTION:Peaks and Pints Seventh Anniversary Party\nJoin Peaks & Pints on Wednesday\, Nov. 1\, as we celebrate our seventh anniversary with the release of our new house beer\, Bale Breaker Trailbreaker IPA\, the release of our new house dry cider\, 2 Towns Ciderhouse Riverbreaker\, and music by The Barleywine Revue bluegrass band. Peaks & Pints will tap a few other Bale Breaker and 2 Towns delights\, as well as many treasures from our cellar\, beginning at 6 p.m. There isn’t an admission fee for this event. Come celebrate seven years with Peaks & Pints. \nLINK: Peaks and Pints Seventh Anniversary Party full story \nPEAKS AND PINTS SEVENTH ANNIVERSARY CELEBRATION\, 6 p.m. Wednesday\, Nov. 1\, 3816 N. 26th St.\, Basecamp Proctor\, Tacoma\, no cover
URL:https://www.peaksandpints.com/event/peaks-and-pints-seventh-anniversary-party/
LOCATION:Peaks and Pints\, 3816 N. 26th Street   Tacoma\, WA 98407 United States
ATTACH;FMTTYPE=image/jpeg:https://www.peaksandpints.com/wp-content/uploads/2023/10/Peaks-and-Pints-7th-Anniversary-Calendar-1.jpg
GEO:47.270797;-122.488194
END:VEVENT
BEGIN:VEVENT
DTSTART;TZID=America/Los_Angeles:20231117T170000
DTEND;TZID=America/Los_Angeles:20231117T200000
DTSTAMP:20260423T125159
CREATED:20231113T143607Z
LAST-MODIFIED:20231113T143607Z
UID:10001352-1700240400-1700251200@www.peaksandpints.com
SUMMARY:Peaks and Pints Gilbert Cellars Night
DESCRIPTION:Peaks and Pints Gilbert Cellars Night\nPeaks & Pints will host Charlie Gilbert and several of his Gilbert Cellars wines at 5 p.m. Friday\, Nov. 17. In addition to a couple special pours\, the night will center on a three-wine flight of Gilbert’s Left Bank Red Blend\, Unoaked Chardonnay\, and Orange Riesling. The spicy and seasonal Left Bank Red Blend has notes of cedar\, cassis\, and coffee\, a velvety palate of tart cherry and violet\, with a fruity tannin finish. The Unoaked Chardonnay\, already a popular pour at Peaks & Pints\, hits the nose with pineapple\, lychee\, and lemon zest\, followed by notes of apricot\, Rainier cherry\, and cucumber. The last flight pour\, Orange Riesling\, comes from Gilbert’s estate on the Hackett Ranch. The unfiltered crisp sipper offers herbal notes and tropical fruit. \nPEAKS AND PINTS GILBERT CELLARS NIGHT\, 5 p.m. Friday\, Nov. 17\, 3816 N. 26th St.\, Basecamp Proctor\, Tacoma\, no cover \nLINK: History of Gilbert Cellars in the Yakima Valley \nLINK: Peaks & Pints beer and cider cooler inventory
URL:https://www.peaksandpints.com/event/peaks-and-pints-gilbert-cellars-night/
LOCATION:Peaks and Pints\, 3816 N. 26th Street   Tacoma\, WA 98407 United States
ATTACH;FMTTYPE=image/jpeg:https://www.peaksandpints.com/wp-content/uploads/2023/11/Peaks-and-Pints-Gilbert-Cellars-Night-calendar.jpg
GEO:47.270797;-122.488194
END:VEVENT
BEGIN:VEVENT
DTSTART;TZID=America/Los_Angeles:20231120T110000
DTEND;TZID=America/Los_Angeles:20231120T230000
DTSTAMP:20260423T125159
CREATED:20231119T175639Z
LAST-MODIFIED:20231119T175639Z
UID:10001356-1700478000-1700521200@www.peaksandpints.com
SUMMARY:Peaks and Pints Dark Days of Thanksgiving 2023
DESCRIPTION:Peaks and Pints Dark Days of Thanksgiving 2023\nOnce again\, darkness descends on Peaks & Pints during Thanksgiving week\, and it promises to be an eventful week with at scarce and salient selections from the dark side. \nStarting at 11 a.m. Monday\, Nov. 20 and running through 11 p.m. Friday\, Nov. 24\, some of the elusive elixirs that will course their ways through Peaks & Pints draft lines including darkness from AleSmith\, Alaskan\, Block 15\, Breakside\, Double Mountain\, Fremont\, Goose Island\, pFriem\, Stoup\, The Bruery\, and others. \nPeaks and Pints will be really dark Thanksgiving Day as we’ll be closed. \nIn addition to the dark drafts\, as well as daily dark flights\, Peaks & Pints will invade our dark cellar. \nThere is no admission for this event\, and all Dark Days of Thanksgiving ales will be priced individually by the glass or 5 oz. tasting pours in the flights. Bottle sales are priced to go with a corkage fee to enjoy in our lodge. \nPEAKS AND PINTS DARK DAYS OF THANKSGIVING 2023\, 11 a.m. to 11 p.m. Monday\, Nov. 20-Friday\, Nov. 24\, closed Thanksgiving\, Peaks and Pints\, 3816 N. 26th St.\, Basecamp Proctor\, Tacoma\, no cover \nLINK: Peaks & Pints beer and cider cooler inventory
URL:https://www.peaksandpints.com/event/peaks-and-pints-dark-days-of-thanksgiving-2023/2023-11-20/
LOCATION:Peaks and Pints\, 3816 N. 26th Street   Tacoma\, WA 98407 United States
ATTACH;FMTTYPE=image/jpeg:https://www.peaksandpints.com/wp-content/uploads/2023/11/Dark-Days-of-Thanksgiving-Calendar.jpg
GEO:47.270797;-122.488194
END:VEVENT
BEGIN:VEVENT
DTSTART;TZID=America/Los_Angeles:20231121T110000
DTEND;TZID=America/Los_Angeles:20231121T230000
DTSTAMP:20260423T125159
CREATED:20231119T175639Z
LAST-MODIFIED:20231119T175639Z
UID:10001357-1700564400-1700607600@www.peaksandpints.com
SUMMARY:Peaks and Pints Dark Days of Thanksgiving 2023
DESCRIPTION:Peaks and Pints Dark Days of Thanksgiving 2023\nOnce again\, darkness descends on Peaks & Pints during Thanksgiving week\, and it promises to be an eventful week with at scarce and salient selections from the dark side. \nStarting at 11 a.m. Monday\, Nov. 20 and running through 11 p.m. Friday\, Nov. 24\, some of the elusive elixirs that will course their ways through Peaks & Pints draft lines including darkness from AleSmith\, Alaskan\, Block 15\, Breakside\, Double Mountain\, Fremont\, Goose Island\, pFriem\, Stoup\, The Bruery\, and others. \nPeaks and Pints will be really dark Thanksgiving Day as we’ll be closed. \nIn addition to the dark drafts\, as well as daily dark flights\, Peaks & Pints will invade our dark cellar. \nThere is no admission for this event\, and all Dark Days of Thanksgiving ales will be priced individually by the glass or 5 oz. tasting pours in the flights. Bottle sales are priced to go with a corkage fee to enjoy in our lodge. \nPEAKS AND PINTS DARK DAYS OF THANKSGIVING 2023\, 11 a.m. to 11 p.m. Monday\, Nov. 20-Friday\, Nov. 24\, closed Thanksgiving\, Peaks and Pints\, 3816 N. 26th St.\, Basecamp Proctor\, Tacoma\, no cover \nLINK: Peaks & Pints beer and cider cooler inventory
URL:https://www.peaksandpints.com/event/peaks-and-pints-dark-days-of-thanksgiving-2023/2023-11-21/
LOCATION:Peaks and Pints\, 3816 N. 26th Street   Tacoma\, WA 98407 United States
ATTACH;FMTTYPE=image/jpeg:https://www.peaksandpints.com/wp-content/uploads/2023/11/Dark-Days-of-Thanksgiving-Calendar.jpg
GEO:47.270797;-122.488194
END:VEVENT
BEGIN:VEVENT
DTSTART;TZID=America/Los_Angeles:20231121T170000
DTEND;TZID=America/Los_Angeles:20231121T200000
DTSTAMP:20260423T125159
CREATED:20231114T162455Z
LAST-MODIFIED:20231121T161933Z
UID:10001354-1700586000-1700596800@www.peaksandpints.com
SUMMARY:Peaks and Pints Pray For Snow Party
DESCRIPTION:Peaks and Pints Pray For Snow Party\nPeaks & Pints will throw a Pray For Snow Party Tuesday\, Nov. 21 at our craft beer and cider lodge at Basecamp Proctor in Tacoma. We need to pray for snow! \nThe National Oceanic and Atmospheric Administration\, or NOAA\, released its 2023-24 winter weather outlook\, favoring classic El Niño conditions for Washington state. El Niño is a climate pattern associated with warmer-than-normal sea surface temperatures in the Pacific Ocean. It generally leads to higher chances of warmer temperatures and drier conditions in the Pacific Northwest. Winter will be warmer and much rainier than normal\, with below-normal snowfall. \nUgh\, we seriously need to pray for snow! \nLet’s all think about snow\, snow sports\, and drink beer together. Peaks & Pints invites you to group hug over this serious situation\, check out the winter IPA Old Stove Brewing brewed for us\, Warming Hut IPA\, enjoy a three-year Alaskan Brewing Smoked Porter vertical on tap\, and win some sway\, including lift tickets to Crystal Mountain Resort. \nProceeds from the event will go the Crystal Mountain Ski Patrol. \nWill the praying for snow work? Does it ever work in Washington? That’s not really the point. \nPEAKS AND PINTS PRAY FOR SNOW PARTY\, 5 p.m.\, Tuesday\, Nov. 21\, 3816 N. 26th St.\, Basecamp Proctor\, Tacoma\, no cover \nLINK: Peaks & Pints beer and cider cooler inventory
URL:https://www.peaksandpints.com/event/peaks-and-pints-pray-for-snow-party-2/
LOCATION:Peaks and Pints\, 3816 N. 26th Street   Tacoma\, WA 98407 United States
ATTACH;FMTTYPE=image/jpeg:https://www.peaksandpints.com/wp-content/uploads/2023/11/Pray-For-snow-calendar.jpg
GEO:47.270797;-122.488194
END:VEVENT
BEGIN:VEVENT
DTSTART;TZID=America/Los_Angeles:20231122T110000
DTEND;TZID=America/Los_Angeles:20231122T230000
DTSTAMP:20260423T125159
CREATED:20231119T175639Z
LAST-MODIFIED:20231119T175639Z
UID:10001358-1700650800-1700694000@www.peaksandpints.com
SUMMARY:Peaks and Pints Dark Days of Thanksgiving 2023
DESCRIPTION:Peaks and Pints Dark Days of Thanksgiving 2023\nOnce again\, darkness descends on Peaks & Pints during Thanksgiving week\, and it promises to be an eventful week with at scarce and salient selections from the dark side. \nStarting at 11 a.m. Monday\, Nov. 20 and running through 11 p.m. Friday\, Nov. 24\, some of the elusive elixirs that will course their ways through Peaks & Pints draft lines including darkness from AleSmith\, Alaskan\, Block 15\, Breakside\, Double Mountain\, Fremont\, Goose Island\, pFriem\, Stoup\, The Bruery\, and others. \nPeaks and Pints will be really dark Thanksgiving Day as we’ll be closed. \nIn addition to the dark drafts\, as well as daily dark flights\, Peaks & Pints will invade our dark cellar. \nThere is no admission for this event\, and all Dark Days of Thanksgiving ales will be priced individually by the glass or 5 oz. tasting pours in the flights. Bottle sales are priced to go with a corkage fee to enjoy in our lodge. \nPEAKS AND PINTS DARK DAYS OF THANKSGIVING 2023\, 11 a.m. to 11 p.m. Monday\, Nov. 20-Friday\, Nov. 24\, closed Thanksgiving\, Peaks and Pints\, 3816 N. 26th St.\, Basecamp Proctor\, Tacoma\, no cover \nLINK: Peaks & Pints beer and cider cooler inventory
URL:https://www.peaksandpints.com/event/peaks-and-pints-dark-days-of-thanksgiving-2023/2023-11-22/
LOCATION:Peaks and Pints\, 3816 N. 26th Street   Tacoma\, WA 98407 United States
ATTACH;FMTTYPE=image/jpeg:https://www.peaksandpints.com/wp-content/uploads/2023/11/Dark-Days-of-Thanksgiving-Calendar.jpg
GEO:47.270797;-122.488194
END:VEVENT
BEGIN:VEVENT
DTSTART;TZID=America/Los_Angeles:20231124T110000
DTEND;TZID=America/Los_Angeles:20231124T230000
DTSTAMP:20260423T125159
CREATED:20231119T175639Z
LAST-MODIFIED:20231119T175639Z
UID:10001359-1700823600-1700866800@www.peaksandpints.com
SUMMARY:Peaks and Pints Dark Days of Thanksgiving 2023
DESCRIPTION:Peaks and Pints Dark Days of Thanksgiving 2023\nOnce again\, darkness descends on Peaks & Pints during Thanksgiving week\, and it promises to be an eventful week with at scarce and salient selections from the dark side. \nStarting at 11 a.m. Monday\, Nov. 20 and running through 11 p.m. Friday\, Nov. 24\, some of the elusive elixirs that will course their ways through Peaks & Pints draft lines including darkness from AleSmith\, Alaskan\, Block 15\, Breakside\, Double Mountain\, Fremont\, Goose Island\, pFriem\, Stoup\, The Bruery\, and others. \nPeaks and Pints will be really dark Thanksgiving Day as we’ll be closed. \nIn addition to the dark drafts\, as well as daily dark flights\, Peaks & Pints will invade our dark cellar. \nThere is no admission for this event\, and all Dark Days of Thanksgiving ales will be priced individually by the glass or 5 oz. tasting pours in the flights. Bottle sales are priced to go with a corkage fee to enjoy in our lodge. \nPEAKS AND PINTS DARK DAYS OF THANKSGIVING 2023\, 11 a.m. to 11 p.m. Monday\, Nov. 20-Friday\, Nov. 24\, closed Thanksgiving\, Peaks and Pints\, 3816 N. 26th St.\, Basecamp Proctor\, Tacoma\, no cover \nLINK: Peaks & Pints beer and cider cooler inventory
URL:https://www.peaksandpints.com/event/peaks-and-pints-dark-days-of-thanksgiving-2023/2023-11-24/
LOCATION:Peaks and Pints\, 3816 N. 26th Street   Tacoma\, WA 98407 United States
ATTACH;FMTTYPE=image/jpeg:https://www.peaksandpints.com/wp-content/uploads/2023/11/Dark-Days-of-Thanksgiving-Calendar.jpg
GEO:47.270797;-122.488194
END:VEVENT
END:VCALENDAR