BEGIN:VCALENDAR
VERSION:2.0
PRODID:-//Peaks and Pints Proctor Tacoma - ECPv6.15.15//NONSGML v1.0//EN
CALSCALE:GREGORIAN
METHOD:PUBLISH
X-WR-CALNAME:Peaks and Pints Proctor Tacoma
X-ORIGINAL-URL:https://www.peaksandpints.com
X-WR-CALDESC:Events for Peaks and Pints Proctor Tacoma
REFRESH-INTERVAL;VALUE=DURATION:PT1H
X-Robots-Tag:noindex
X-PUBLISHED-TTL:PT1H
BEGIN:VTIMEZONE
TZID:America/Los_Angeles
BEGIN:DAYLIGHT
TZOFFSETFROM:-0800
TZOFFSETTO:-0700
TZNAME:PDT
DTSTART:20230312T100000
END:DAYLIGHT
BEGIN:STANDARD
TZOFFSETFROM:-0700
TZOFFSETTO:-0800
TZNAME:PST
DTSTART:20231105T090000
END:STANDARD
BEGIN:DAYLIGHT
TZOFFSETFROM:-0800
TZOFFSETTO:-0700
TZNAME:PDT
DTSTART:20240310T100000
END:DAYLIGHT
BEGIN:STANDARD
TZOFFSETFROM:-0700
TZOFFSETTO:-0800
TZNAME:PST
DTSTART:20241103T090000
END:STANDARD
BEGIN:DAYLIGHT
TZOFFSETFROM:-0800
TZOFFSETTO:-0700
TZNAME:PDT
DTSTART:20250309T100000
END:DAYLIGHT
BEGIN:STANDARD
TZOFFSETFROM:-0700
TZOFFSETTO:-0800
TZNAME:PST
DTSTART:20251102T090000
END:STANDARD
END:VTIMEZONE
BEGIN:VEVENT
DTSTART;TZID=America/Los_Angeles:20240814T163000
DTEND;TZID=America/Los_Angeles:20240814T173000
DTSTAMP:20260419T084234
CREATED:20240723T185255Z
LAST-MODIFIED:20240726T132805Z
UID:10001736-1723653000-1723656600@www.peaksandpints.com
SUMMARY:Grit & Grain Iconic Tacoma Eats with Kris Hay
DESCRIPTION:Grit & Grain Iconic Tacoma Eats with Kris Hay\nInitially\, Kris Hay launched the Tacoma Aroma Flavor and Instagram as companions for her upcoming Tacoma food and beverage pairing cookbook\, Tacoma Aroma. An expert in local cuisine with daily discoveries posting on her @tacoma.aroma.flavor Instagram\, her experiences writing\, editing\, organizing complex projects\, and promoting community-based resources secured her a spot on the “ten of us” 2023 roster. The regional Grit & Grain beer podcast will host Hay and her basket full of Tacoma icon foods — Frisko Freeze\, Johnson Candy\, Almond Roca\, Ice Cream Social\, and others — for a food and local beer pairing double episode at Peaks & Pints\, the podcast’s recording home on Wednesdays. \nIn 2023\, Foster’s Creative\, a Hispanic-owned creative agency launched by Bryson and Kristin Foster seven years earlier\, presented the “ten of us” 2023\, a community project in collaboration with eTc Tacoma\, the streetwear boutique located in downtown Tacoma. The “ten of us” 2023 project highlighted artists\, creatives\, business owners\, and community leaders operating in the 253 area code via a gorgeous coffee table book and equally gorgeous film. As mentioned\, Kris Hay was part of the “storytellers” group with Mayor Victoria Woodards\, T’wina Nobles\, Markus Trufant\, Lisa Fruichantie\, Amy McBride\, Ron Swarner\, Kwabi Amoah-Forson\, Jackie Casella\, Chris Staudinger\, and other incredible community members. Before hitting the online streams\, the Ten of Us 2023 film will be re-released at 6 p.m. Thursday\, July 25 inside the Tacoma Art Museum. \nEat up the Grit & Grain Podcast with Kris Hay and her Tacoma Aroma Flavor palate during Tacoma Beer Week at Peaks & Pints Aug. 14. \nGrit & Grain Iconic Tacoma Eats with Kris Hay \nWednesday\, Aug. 14\, 3:30-5:30 p.m.\, Peaks & Pints\, no cover \nLINK: Grit & Grain Podcast archives \nLINK: Peaks & Pints Tacoma Beer Week 2024 \nLINK: Peaks & Pints Tacoma Beer Week Launch with “the ten” \nLINK: Peaks & Pints Tacoma Beer Week 2024 with Creative Colloquy \nLINK: Peaks & Pints Tacoma Beers Week 2024 Pretty Gritty Narrows Proctorlandia \nLINK: Peaks & Pints Tacoma Beer Week 2024 Hop Roast Coffee Beer Fest with Campfire Coffee
URL:https://www.peaksandpints.com/event/grit-grain-iconic-tacoma-eats-with-kris-hay/
LOCATION:Peaks and Pints\, 3816 N. 26th Street   Tacoma\, WA 98407 United States
ATTACH;FMTTYPE=image/jpeg:https://www.peaksandpints.com/wp-content/uploads/2024/07/Tacoma-Beer-Week-2024-Tacoma-Aroma-Flavor-Calendar.jpg
GEO:47.270797;-122.488194
END:VEVENT
END:VCALENDAR