BEGIN:VCALENDAR
VERSION:2.0
PRODID:-//Peaks and Pints Proctor Tacoma - ECPv6.15.15//NONSGML v1.0//EN
CALSCALE:GREGORIAN
METHOD:PUBLISH
X-WR-CALNAME:Peaks and Pints Proctor Tacoma
X-ORIGINAL-URL:https://www.peaksandpints.com
X-WR-CALDESC:Events for Peaks and Pints Proctor Tacoma
REFRESH-INTERVAL;VALUE=DURATION:PT1H
X-Robots-Tag:noindex
X-PUBLISHED-TTL:PT1H
BEGIN:VTIMEZONE
TZID:America/Los_Angeles
BEGIN:DAYLIGHT
TZOFFSETFROM:-0800
TZOFFSETTO:-0700
TZNAME:PDT
DTSTART:20230312T100000
END:DAYLIGHT
BEGIN:STANDARD
TZOFFSETFROM:-0700
TZOFFSETTO:-0800
TZNAME:PST
DTSTART:20231105T090000
END:STANDARD
BEGIN:DAYLIGHT
TZOFFSETFROM:-0800
TZOFFSETTO:-0700
TZNAME:PDT
DTSTART:20240310T100000
END:DAYLIGHT
BEGIN:STANDARD
TZOFFSETFROM:-0700
TZOFFSETTO:-0800
TZNAME:PST
DTSTART:20241103T090000
END:STANDARD
BEGIN:DAYLIGHT
TZOFFSETFROM:-0800
TZOFFSETTO:-0700
TZNAME:PDT
DTSTART:20250309T100000
END:DAYLIGHT
BEGIN:STANDARD
TZOFFSETFROM:-0700
TZOFFSETTO:-0800
TZNAME:PST
DTSTART:20251102T090000
END:STANDARD
END:VTIMEZONE
BEGIN:VEVENT
DTSTART;TZID=America/Los_Angeles:20240808T110000
DTEND;TZID=America/Los_Angeles:20240808T130000
DTSTAMP:20260419T065645
CREATED:20240804T212933Z
LAST-MODIFIED:20240804T212933Z
UID:10001739-1723114800-1723122000@www.peaksandpints.com
SUMMARY:Peaks and Pints Lunch with Our Mutual Friend
DESCRIPTION:Peaks and Pints Lunch with Our Mutual Friend\nThanks to XBP Limited Liquids distributor in Tacoma\, Our Mutual Friend Brewing co-owners and brewers Brandon Proff and Jan Chodkowski will be touring Western Washington Thursday\, Aug. 8\, including an 11 a.m. to 1 p.m. lunch stop at Peaks & Pints in Tacoma’s Proctor District. \nDuring the 2023 Great American Beer Festival in Denver\, Colorado\, Peaks & Pints visited Our Mutual Friend Brewing\, or OMF\, in Denver’s Five Points neighborhood on Larimer Street. Founded in 2012\, which makes it one of the oldest breweries in River North Art District\, or RiNo\, and while our first impression of the taproom was a carefully curated combination of hipster cool\, industrial chic\, and your British uncle’s library and faux nonchalance\, it would be a mistake to call OMF just another neo-beatnik hangout. The award-winning outfit — numerous GABF medals\, including a gold medal for Saison Trystero and silver medal for Biere Ovale in 2022\, and a 2018 gold medal for Saison Trystero at World Beer Cup — roasts its own malt\, making its grain-to-glass philosophy unique in the rapidly expanding Denver beer market and lending an impressive freshness to its brews. \nIn addition to several OMF beers on tap\, Peaks & Pints will also offer an all-day\, in-house OMF beer flight Aug. 8. \nPEAKS AND PINTS LUNCH WITH OUR MUTUAL FRIEND\, 11 a.m. to 1 p.m.\, Thursday\, Aug. 8\, Basecamp Proctor\, Tacoma \nLINK: Peaks & Pints beer and cider cooler inventory
URL:https://www.peaksandpints.com/event/peaks-and-pints-lunch-with-our-mutual-friend/
LOCATION:Peaks and Pints\, 3816 N. 26th Street   Tacoma\, WA 98407 United States
ATTACH;FMTTYPE=image/jpeg:https://www.peaksandpints.com/wp-content/uploads/2024/08/Peaks-and-Pints-Lunch-with-Our-Mutaul-Friend-calendarjpg.jpg
GEO:47.270797;-122.488194
END:VEVENT
END:VCALENDAR