BEGIN:VCALENDAR
VERSION:2.0
PRODID:-//Peaks and Pints Proctor Tacoma - ECPv6.15.15//NONSGML v1.0//EN
CALSCALE:GREGORIAN
METHOD:PUBLISH
X-WR-CALNAME:Peaks and Pints Proctor Tacoma
X-ORIGINAL-URL:https://www.peaksandpints.com
X-WR-CALDESC:Events for Peaks and Pints Proctor Tacoma
REFRESH-INTERVAL;VALUE=DURATION:PT1H
X-Robots-Tag:noindex
X-PUBLISHED-TTL:PT1H
BEGIN:VTIMEZONE
TZID:America/Los_Angeles
BEGIN:DAYLIGHT
TZOFFSETFROM:-0800
TZOFFSETTO:-0700
TZNAME:PDT
DTSTART:20220313T100000
END:DAYLIGHT
BEGIN:STANDARD
TZOFFSETFROM:-0700
TZOFFSETTO:-0800
TZNAME:PST
DTSTART:20221106T090000
END:STANDARD
BEGIN:DAYLIGHT
TZOFFSETFROM:-0800
TZOFFSETTO:-0700
TZNAME:PDT
DTSTART:20230312T100000
END:DAYLIGHT
BEGIN:STANDARD
TZOFFSETFROM:-0700
TZOFFSETTO:-0800
TZNAME:PST
DTSTART:20231105T090000
END:STANDARD
BEGIN:DAYLIGHT
TZOFFSETFROM:-0800
TZOFFSETTO:-0700
TZNAME:PDT
DTSTART:20240310T100000
END:DAYLIGHT
BEGIN:STANDARD
TZOFFSETFROM:-0700
TZOFFSETTO:-0800
TZNAME:PST
DTSTART:20241103T090000
END:STANDARD
END:VTIMEZONE
BEGIN:VEVENT
DTSTART;TZID=America/Los_Angeles:20231101T180000
DTEND;TZID=America/Los_Angeles:20231101T220000
DTSTAMP:20260423T140931
CREATED:20231026T163338Z
LAST-MODIFIED:20231026T163338Z
UID:10001348-1698861600-1698876000@www.peaksandpints.com
SUMMARY:Peaks and Pints Seventh Anniversary Party
DESCRIPTION:Peaks and Pints Seventh Anniversary Party\nJoin Peaks & Pints on Wednesday\, Nov. 1\, as we celebrate our seventh anniversary with the release of our new house beer\, Bale Breaker Trailbreaker IPA\, the release of our new house dry cider\, 2 Towns Ciderhouse Riverbreaker\, and music by The Barleywine Revue bluegrass band. Peaks & Pints will tap a few other Bale Breaker and 2 Towns delights\, as well as many treasures from our cellar\, beginning at 6 p.m. There isn’t an admission fee for this event. Come celebrate seven years with Peaks & Pints. \nLINK: Peaks and Pints Seventh Anniversary Party full story \nPEAKS AND PINTS SEVENTH ANNIVERSARY CELEBRATION\, 6 p.m. Wednesday\, Nov. 1\, 3816 N. 26th St.\, Basecamp Proctor\, Tacoma\, no cover
URL:https://www.peaksandpints.com/event/peaks-and-pints-seventh-anniversary-party/
LOCATION:Peaks and Pints\, 3816 N. 26th Street   Tacoma\, WA 98407 United States
ATTACH;FMTTYPE=image/jpeg:https://www.peaksandpints.com/wp-content/uploads/2023/10/Peaks-and-Pints-7th-Anniversary-Calendar-1.jpg
GEO:47.270797;-122.488194
END:VEVENT
END:VCALENDAR