BEGIN:VCALENDAR
VERSION:2.0
PRODID:-//Peaks and Pints Proctor Tacoma - ECPv6.15.15//NONSGML v1.0//EN
CALSCALE:GREGORIAN
METHOD:PUBLISH
X-WR-CALNAME:Peaks and Pints Proctor Tacoma
X-ORIGINAL-URL:https://www.peaksandpints.com
X-WR-CALDESC:Events for Peaks and Pints Proctor Tacoma
REFRESH-INTERVAL;VALUE=DURATION:PT1H
X-Robots-Tag:noindex
X-PUBLISHED-TTL:PT1H
BEGIN:VTIMEZONE
TZID:America/Los_Angeles
BEGIN:DAYLIGHT
TZOFFSETFROM:-0800
TZOFFSETTO:-0700
TZNAME:PDT
DTSTART:20220313T100000
END:DAYLIGHT
BEGIN:STANDARD
TZOFFSETFROM:-0700
TZOFFSETTO:-0800
TZNAME:PST
DTSTART:20221106T090000
END:STANDARD
BEGIN:DAYLIGHT
TZOFFSETFROM:-0800
TZOFFSETTO:-0700
TZNAME:PDT
DTSTART:20230312T100000
END:DAYLIGHT
BEGIN:STANDARD
TZOFFSETFROM:-0700
TZOFFSETTO:-0800
TZNAME:PST
DTSTART:20231105T090000
END:STANDARD
BEGIN:DAYLIGHT
TZOFFSETFROM:-0800
TZOFFSETTO:-0700
TZNAME:PDT
DTSTART:20240310T100000
END:DAYLIGHT
BEGIN:STANDARD
TZOFFSETFROM:-0700
TZOFFSETTO:-0800
TZNAME:PST
DTSTART:20241103T090000
END:STANDARD
END:VTIMEZONE
BEGIN:VEVENT
DTSTART;TZID=America/Los_Angeles:20231031T160000
DTEND;TZID=America/Los_Angeles:20231031T220000
DTSTAMP:20260423T140926
CREATED:20231026T172652Z
LAST-MODIFIED:20231026T172652Z
UID:10001350-1698768000-1698789600@www.peaksandpints.com
SUMMARY:Peaks and Pints Proctor Adult Treats
DESCRIPTION:Peaks and Pints Proctor Adult Treats\n \nHalloween is pretty much the best. What’s not to love about a holiday that encourages you to eat excessive amounts of sugar while pretending to be someone else? Peaks and Pints Proctor Adult Treats will feature prime viewing of Proctor Treats children’s trick-or-treat 4-6 p.m. parade while drinking Halloween-themed beers from our Western red cedar tap log. Arrive in costume\, watch all the adorable costumes parade by our giant windows while enjoying our in-house Halloween beer flight or pints of potions thank brew very much\, then fill up Peaks & Pints Campfire Crowlers full of boo beer and chilling cider on the way out the door. \n  \nPEAKS AND PINTS PROCTOR ADULT TREATS\, 4-10 p.m. Tuesday\, Oct. 31\, 3816 N. 26th St.\, Basecamp Proctor\, Tacoma\, no cover \nLINK: Peaks & Pints beer and cider cooler inventory \nGrab a Peaks & Pints window seat on Halloween and watch the Proctor Treats parade.
URL:https://www.peaksandpints.com/event/peaks-and-pints-proctor-adult-treats/
LOCATION:Peaks and Pints\, 3816 N. 26th Street   Tacoma\, WA 98407 United States
ATTACH;FMTTYPE=image/jpeg:https://www.peaksandpints.com/wp-content/uploads/2023/10/Proctor-Treats-Tacoma.jpg
GEO:47.270797;-122.488194
END:VEVENT
END:VCALENDAR